BEGIN:VCALENDAR
VERSION:2.0
PRODID:-//caputah.org//NONSGML kigkonsult.se iCalcreator 2.30.10//
CALSCALE:GREGORIAN
METHOD:PUBLISH
UID:f4a7a41c-8c3d-44ea-be03-56e6847cd298
X-WR-CALDESC:This is a two day training on Wednesday and Thursday from 10:0
 0am - 12:30 PM (Mountain Time) via Zoom \n\nImportant CAP Data Camp Inform
 ation:\nProvided to you at no cost by Community Action Partnership of Utah
 \,  with support from the Region VIII RPIC.\nCommunity Action staff and bo
 ard members through Region VIII are welcome to join. \nRegistration\, via 
 the form below\, is required.\nSessions are offered via Zoom (make sure yo
 u have access to Zoom).\nClass information and Zoom link will be sent via 
 email prior to the start date.\nAttendees are expected to attend both days
 \, February 4 & 5\nSessions run from 10:00am - 12:30 PM (Mountain Time).\n
 We ask that you arrive 5 minutes early each day so we can start right on t
 ime.\nEach learner should attend the Zoom sessions at their own workstatio
 n\, individually.\nClasses are interactive so be prepared to participate w
 ith your camera on. \nCEUs (0.5) awarded upon successful completion.\nThis
  event is a revised and updated version of the CAP Data Camp we previously
  offered in 2024. If you participated in the 2024 events\, be aware that s
 ome of the content is the same. Want a refresher? Of course\, you are welc
 ome to participate again.
X-WR-RELCALID:1080adf05326297804b8479823c49fe2
X-WR-TIMEZONE:America/Denver
BEGIN:VTIMEZONE
TZID:America/Denver
BEGIN:STANDARD
TZNAME:MST
DTSTART:20251102T020000
TZOFFSETFROM:-0600
TZOFFSETTO:-0700
RDATE:20261101T020000
END:STANDARD
BEGIN:DAYLIGHT
TZNAME:MDT
DTSTART:20250309T020000
TZOFFSETFROM:-0700
TZOFFSETTO:-0600
RDATE:20260308T020000
RDATE:20270314T020000
END:DAYLIGHT
END:VTIMEZONE
BEGIN:VEVENT
UID:9af37ddf-47f7-4ada-a5de-9db9e37dec4d
DTSTAMP:20260422T040400Z
DESCRIPTION:This is a two day training on Wednesday and Thursday from 10:00
 am - 12:30 PM (Mountain Time) via Zoom \n\nImportant CAP Data Camp Informa
 tion:\nProvided to you at no cost by Community Action Partnership of Utah\
 ,  with support from the Region VIII RPIC.\nCommunity Action staff and boa
 rd members through Region VIII are welcome to join. \nRegistration\, via t
 he form below\, is required.\nSessions are offered via Zoom (make sure you
  have access to Zoom).\nClass information and Zoom link will be sent via e
 mail prior to the start date.\nAttendees are expected to attend both days\
 , February 4 & 5\nSessions run from 10:00am - 12:30 PM (Mountain Time).\nW
 e ask that you arrive 5 minutes early each day so we can start right on ti
 me.\nEach learner should attend the Zoom sessions at their own workstation
 \, individually.\nClasses are interactive so be prepared to participate wi
 th your camera on. \nCEUs (0.5) awarded upon successful completion.\nThis 
 event is a revised and updated version of the CAP Data Camp we previously 
 offered in 2024. If you participated in the 2024 events\, be aware that so
 me of the content is the same. Want a refresher? Of course\, you are welco
 me to participate again.
DTSTART;TZID=America/Denver:20260204T040000
DTEND;TZID=America/Denver:20260205T040001
LOCATION:https://learn.acornevaluation.com/data-camp-registration-cap-oct20
 26
SUMMARY:CAPUTAH - CAP Data Camp
END:VEVENT
END:VCALENDAR
