BEGIN:VCALENDAR
VERSION:2.0
PRODID:-//caputah.org//NONSGML kigkonsult.se iCalcreator 2.30.10//
CALSCALE:GREGORIAN
METHOD:PUBLISH
UID:349c0e2e-2c42-45aa-bef7-43da0a434e22
X-WR-CALDESC:Wednesday\, February 11\, 2026 \nPresenters will describe how 
 the Baltimore City Department of Housing & Community Development (DHCD)’s 
 case management system brings in lead abatement\, asthma reduction\, fall 
 prevention\, and home rehabilitation services. \n\nYou can choose to atten
 d one or more of the following webinars.\n\nFeb 11\, 2026 12:00 PM\nFeb 17
 \, 2026 12:00 PM\nFeb 26\, 2026 12:00 PM\nMar 4\, 2026 12:00 PM
X-WR-RELCALID:dbd051c2662e371320c597dcd9c3ec51
X-WR-TIMEZONE:America/Denver
BEGIN:VTIMEZONE
TZID:America/Denver
BEGIN:STANDARD
TZNAME:MST
DTSTART:20251102T020000
TZOFFSETFROM:-0600
TZOFFSETTO:-0700
RDATE:20261101T020000
END:STANDARD
BEGIN:DAYLIGHT
TZNAME:MDT
DTSTART:20250309T020000
TZOFFSETFROM:-0700
TZOFFSETTO:-0600
RDATE:20260308T020000
RDATE:20270314T020000
END:DAYLIGHT
END:VTIMEZONE
BEGIN:VEVENT
UID:fa90ff08-f565-480a-874a-f06dd1b10978
DTSTAMP:20260422T041114Z
DESCRIPTION:Wednesday\, February 11\, 2026 \nPresenters will describe how t
 he Baltimore City Department of Housing & Community Development (DHCD)’s c
 ase management system brings in lead abatement\, asthma reduction\, fall p
 revention\, and home rehabilitation services. \n\nYou can choose to attend
  one or more of the following webinars.\n\nFeb 11\, 2026 12:00 PM\nFeb 17\
 , 2026 12:00 PM\nFeb 26\, 2026 12:00 PM\nMar 4\, 2026 12:00 PM
DTSTART;TZID=America/Denver:20260211T120000
DTEND;TZID=America/Denver:20260211T130000
LOCATION:https://communityactionpartnership.zoom.us/webinar/register/WN_pDg
 YddMySBGPraLUmkOL3Q#/registration
SUMMARY:NCAP - Advanced Weatherization Strategies for Lowering Household En
 ergy Costs: In-depth virtual trainings and case studies
END:VEVENT
END:VCALENDAR
