BEGIN:VCALENDAR
VERSION:2.0
PRODID:-//caputah.org//NONSGML kigkonsult.se iCalcreator 2.30.10//
CALSCALE:GREGORIAN
METHOD:PUBLISH
UID:4dd175de-e5d8-46ab-8809-f2d6d82eb4ea
X-WR-CALDESC:Ever wonder how your nonprofit could turn today’s fundraising 
 into long-term financial stability? How can an endowment help your organiz
 ation grow and sustain its mission for years to come? \n\nIf you’ve asked 
 yourself questions like Do we have the resources to sustain an endowment? 
 How does it fit into our overall financial plan? What risks should we be a
 ware of? - you’re not alone. This session is designed to give you practica
 l answers and a clear understanding of how endowments can support your mis
 sion over the long term.\n\nLearning Objectives:\n\nWhat is an endowment a
 nd the types nonprofits typically use\nHow an endowment fits into your bro
 ader financial strategy\nHow to assess your organization’s readiness to es
 tablish and sustain one\nKey elements of investment policies\, portfolio d
 esign\, and spending strategies\nCommon risks and ways to manage them effe
 ctively\nHow donor-advised funds (DAFs) can complement an endowment\nBy th
 e end\, you’ll have a clearer picture of how an endowment can help strengt
 hen your nonprofit’s long-term impact\, along with concrete steps to move 
 forward with confidence.\n\nWho Should Attend? \nCEO/Executive Directors\,
  Chief Operating Officers\, board members\, and development staff who want
  to build long-term financial stability and understand how endowments can 
 support their mission. \n\nCost:\nMembers Per Person: $45\nNot-Yet-Members
 : $90
X-WR-RELCALID:c0a17dbf61d99b5957dc4305f54c0494
X-WR-TIMEZONE:America/Denver
BEGIN:VTIMEZONE
TZID:America/Denver
BEGIN:STANDARD
TZNAME:MST
DTSTART:20251102T020000
TZOFFSETFROM:-0600
TZOFFSETTO:-0700
RDATE:20261101T020000
END:STANDARD
BEGIN:DAYLIGHT
TZNAME:MDT
DTSTART:20250309T020000
TZOFFSETFROM:-0700
TZOFFSETTO:-0600
RDATE:20260308T020000
RDATE:20270314T020000
END:DAYLIGHT
END:VTIMEZONE
BEGIN:VEVENT
UID:f682809d-d232-41bf-9bf3-0622042f27f3
DTSTAMP:20260422T040533Z
DESCRIPTION:Ever wonder how your nonprofit could turn today’s fundraising i
 nto long-term financial stability? How can an endowment help your organiza
 tion grow and sustain its mission for years to come? \n\nIf you’ve asked y
 ourself questions like Do we have the resources to sustain an endowment? H
 ow does it fit into our overall financial plan? What risks should we be aw
 are of? - you’re not alone. This session is designed to give you practical
  answers and a clear understanding of how endowments can support your miss
 ion over the long term.\n\nLearning Objectives:\n\nWhat is an endowment an
 d the types nonprofits typically use\nHow an endowment fits into your broa
 der financial strategy\nHow to assess your organization’s readiness to est
 ablish and sustain one\nKey elements of investment policies\, portfolio de
 sign\, and spending strategies\nCommon risks and ways to manage them effec
 tively\nHow donor-advised funds (DAFs) can complement an endowment\nBy the
  end\, you’ll have a clearer picture of how an endowment can help strength
 en your nonprofit’s long-term impact\, along with concrete steps to move f
 orward with confidence.\n\nWho Should Attend? \nCEO/Executive Directors\, 
 Chief Operating Officers\, board members\, and development staff who want 
 to build long-term financial stability and understand how endowments can s
 upport their mission. \n\nCost:\nMembers Per Person: $45\nNot-Yet-Members:
  $90
DTSTART;TZID=America/Denver:20260211T130000
DTEND;TZID=America/Denver:20260211T143000
LOCATION:https://members.utahnonprofits.org/ap/Events/Register/4lFMJkQtRCMC
 x
SUMMARY:UNA - Endowments: Making Donations Last
END:VEVENT
END:VCALENDAR
