BEGIN:VCALENDAR
VERSION:2.0
PRODID:-//caputah.org//NONSGML kigkonsult.se iCalcreator 2.30.10//
CALSCALE:GREGORIAN
METHOD:PUBLISH
UID:af7b7685-2c26-4a3a-935b-9b07f27b7cab
X-WR-CALDESC:Join NCAP for a continuation of the Roundtable series for curr
 ent Community Action Executive Directors and CEOs. The Roundtables are des
 igned to provide space for an engaging session where EDs and CEOs will hav
 e the opportunity to participate in confidential small group discussions w
 ith peers. This is an opportunity to discuss emerging issues\, get updates
  on available tools and resources\, and learn effective strategies from yo
 ur peers.
X-WR-RELCALID:1f7ee384f679e22cae4a97b436e18612
X-WR-TIMEZONE:America/Denver
BEGIN:VTIMEZONE
TZID:America/Denver
BEGIN:STANDARD
TZNAME:MST
DTSTART:20251102T020000
TZOFFSETFROM:-0600
TZOFFSETTO:-0700
RDATE:20261101T020000
END:STANDARD
BEGIN:DAYLIGHT
TZNAME:MDT
DTSTART:20250309T020000
TZOFFSETFROM:-0700
TZOFFSETTO:-0600
RDATE:20260308T020000
RDATE:20270314T020000
END:DAYLIGHT
END:VTIMEZONE
BEGIN:VEVENT
UID:43265d39-f5a3-48e9-8aaf-37393884481b
DTSTAMP:20260422T040828Z
DESCRIPTION:Join NCAP for a continuation of the Roundtable series for curre
 nt Community Action Executive Directors and CEOs. The Roundtables are desi
 gned to provide space for an engaging session where EDs and CEOs will have
  the opportunity to participate in confidential small group discussions wi
 th peers. This is an opportunity to discuss emerging issues\, get updates 
 on available tools and resources\, and learn effective strategies from you
 r peers.
DTSTART;TZID=America/Denver:20260212T140000
DTEND;TZID=America/Denver:20260212T150000
LOCATION:https://ncap.users.membersuite.com/home
SUMMARY:NCAP - ED/CEO Roundtables:  ﻿Responding to the Shifting Landscape
END:VEVENT
END:VCALENDAR
