BEGIN:VCALENDAR
VERSION:2.0
PRODID:-//caputah.org//NONSGML kigkonsult.se iCalcreator 2.30.10//
CALSCALE:GREGORIAN
METHOD:PUBLISH
UID:fac64250-ebda-4e76-8d65-5cc18fa6a286
X-WR-CALDESC:Testifying can feel intimidating\, but it doesn’t have to be. 
 Evan Done\, walks participants through how to effectively testify before e
 lected officials. With years of experience advocating and testifying at th
 e local and state level\, Evan will guide you through what to expect\, how
  to prepare your message\, and how to speak clearly and confidently in pub
 lic hearings. \n\nCost:\nFree for Members\nNot-Yet-Members: $30.00
X-WR-RELCALID:5722d17cc2f9f613bf14db42e7b075a8
X-WR-TIMEZONE:America/Denver
BEGIN:VTIMEZONE
TZID:America/Denver
BEGIN:STANDARD
TZNAME:MST
DTSTART:20251102T020000
TZOFFSETFROM:-0600
TZOFFSETTO:-0700
RDATE:20261101T020000
END:STANDARD
BEGIN:DAYLIGHT
TZNAME:MDT
DTSTART:20250309T020000
TZOFFSETFROM:-0700
TZOFFSETTO:-0600
RDATE:20260308T020000
RDATE:20270314T020000
END:DAYLIGHT
END:VTIMEZONE
BEGIN:VEVENT
UID:a01aac0e-46f4-4647-9fca-b95965d54733
DTSTAMP:20260422T040634Z
DESCRIPTION:Testifying can feel intimidating\, but it doesn’t have to be. E
 van Done\, walks participants through how to effectively testify before el
 ected officials. With years of experience advocating and testifying at the
  local and state level\, Evan will guide you through what to expect\, how 
 to prepare your message\, and how to speak clearly and confidently in publ
 ic hearings. \n\nCost:\nFree for Members\nNot-Yet-Members: $30.00
DTSTART;TZID=America/Denver:20260212T130000
DTEND;TZID=America/Denver:20260212T133000
LOCATION:https://members.utahnonprofits.org/ap/Events/Register/QZF6bGJudCnC
 0
SUMMARY:UNA - How to Testify (and What to Expect)
END:VEVENT
END:VCALENDAR
