BEGIN:VCALENDAR
VERSION:2.0
PRODID:-//caputah.org//NONSGML kigkonsult.se iCalcreator 2.30.10//
CALSCALE:GREGORIAN
METHOD:PUBLISH
UID:e81eedfe-da61-492f-b435-193ee0c2011c
X-WR-CALDESC:Tuesday\, February 17\, 2026 \nTrainers will explain how to fu
 nd and audit non-DOE WAP measures or measures with a Savings to Investment
  Ratio (SIR) of less than 1.0. Panelists will review the benefits of using
  DOE Priority Lists and how to add them to your state plan.  \n\nYou can c
 hoose to attend one or more of the following webinars.\n\nFeb 11\, 2026 12
 :00 PM\nFeb 17\, 2026 12:00 PM\nFeb 26\, 2026 12:00 PM\nMar 4\, 2026 12:00
  PM
X-WR-RELCALID:36eb3cc7d5f828844759e04290012f4b
X-WR-TIMEZONE:America/Denver
BEGIN:VTIMEZONE
TZID:America/Denver
BEGIN:STANDARD
TZNAME:MST
DTSTART:20251102T020000
TZOFFSETFROM:-0600
TZOFFSETTO:-0700
RDATE:20261101T020000
END:STANDARD
BEGIN:DAYLIGHT
TZNAME:MDT
DTSTART:20250309T020000
TZOFFSETFROM:-0700
TZOFFSETTO:-0600
RDATE:20260308T020000
RDATE:20270314T020000
END:DAYLIGHT
END:VTIMEZONE
BEGIN:VEVENT
UID:b2e82260-af88-4cd2-8931-2991f3e55993
DTSTAMP:20260422T041018Z
DESCRIPTION:Tuesday\, February 17\, 2026 \nTrainers will explain how to fun
 d and audit non-DOE WAP measures or measures with a Savings to Investment 
 Ratio (SIR) of less than 1.0. Panelists will review the benefits of using 
 DOE Priority Lists and how to add them to your state plan.  \n\nYou can ch
 oose to attend one or more of the following webinars.\n\nFeb 11\, 2026 12:
 00 PM\nFeb 17\, 2026 12:00 PM\nFeb 26\, 2026 12:00 PM\nMar 4\, 2026 12:00 
 PM
DTSTART;TZID=America/Denver:20260217T120000
DTEND;TZID=America/Denver:20260217T130000
LOCATION:https://communityactionpartnership.zoom.us/webinar/register/WN_pDg
 YddMySBGPraLUmkOL3Q#/registration
SUMMARY:NCAP - Advanced Weatherization Strategies for Lowering Household En
 ergy Costs: In-depth virtual trainings and case studies
END:VEVENT
END:VCALENDAR
