BEGIN:VCALENDAR
VERSION:2.0
PRODID:-//caputah.org//NONSGML kigkonsult.se iCalcreator 2.30.10//
CALSCALE:GREGORIAN
METHOD:PUBLISH
UID:8beefe28-b2b6-4cd0-aa9f-c9d733328eb4
X-WR-CALDESC:Course Dates\nOnline Training Sessions\nDay 1: February 18\, 2
 026 | 9:30 AM to 3:30 PM\nDay 2: February 19\, 2026 | 9:30 AM to 3:30 PM\n
 \nOrganizational Consultation\nWednesday\, March 18\, 2026 or Thursday\, M
 arch 19\, 2026\n\nYou know that successful\, sustainable fund development 
 is about more than just securing dollars. It’s about keeping your fundrais
 ing purposeful\, aligned with your mission\, and built to last. Have you e
 ver struggled with prioritizing opportunities\, knowing which funding sour
 ces to pursue\, measuring progress\, or engaging the right people in ways 
 that truly support your goals? \n\nThe Nonprofit Credential in Fundraising
  and Development\, led by fundraising expert Amberlie Phillips\, gives you
  the strategies\, tools\, and confidence to make thoughtful\, mission-focu
 sed fundraising decisions. This course emphasizes ethical practices\, stra
 tegic planning\, and meaningful relationship-building so your organization
  can grow effectively while staying true to its purpose. \n\nWhat you’ll l
 earn: \n\nHow to apply industry best practices and build trust through eth
 ical and transparent fundraising approaches.\nDevelop a balanced funding p
 ortfolio (including multiple funding sources) to strengthen your organizat
 ion's financial resilience.\nMaster goal setting\, planning\, and evaluati
 on techniques to ensure effective use of resources.\nEngage stakeholders s
 trategically to advance your mission. \nUpon completion\, your organizatio
 n will earn the Nonprofit Credential Fundraising and Development Badge\, a
  mark of excellence to share with your network and show the world you’re s
 erious about making an impact.  \n\nWhat’s Included\nYour journey to fundr
 aising excellence includes:\n\nTwo days of live\, online training with pra
 ctical insights and real-world applications.\nOne-on-One Consultation: A p
 ersonalized session with Amberlie Phillips to address your organization’s 
 unique needs.\nOngoing Coaching and Support: Keep progressing with support
  beyond the course.\nBy participating in this course and completing key de
 liverables\, your organization will earn the Nonprofit Badge in Fundraisin
 g and Development\, demonstrating your commitment to impactful\, responsib
 le fundraising.\n\nWho Should Attend\nNonprofit leaders and staff\, includ
 ing executive leadership and key development staff\, as well as any other 
 team members that would benefit by participating in this Credential course
 . Participants will gain both understanding of essential elements of fundr
 aising as well as a practical path for application of the content.\n\nCost
 \nUNA Members: $200 for the first participant/$40 for each additional part
 icipant\nNot-Yet-Members: $400 for the first participant/$80 for each addi
 tional participant
X-WR-RELCALID:c0c8cf995b0b8424d4337caa8f1cb29e
X-WR-TIMEZONE:America/Denver
BEGIN:VTIMEZONE
TZID:America/Denver
BEGIN:STANDARD
TZNAME:MST
DTSTART:20251102T020000
TZOFFSETFROM:-0600
TZOFFSETTO:-0700
RDATE:20261101T020000
END:STANDARD
BEGIN:DAYLIGHT
TZNAME:MDT
DTSTART:20250309T020000
TZOFFSETFROM:-0700
TZOFFSETTO:-0600
RDATE:20260308T020000
RDATE:20270314T020000
END:DAYLIGHT
END:VTIMEZONE
BEGIN:VEVENT
UID:eace6cfa-94a6-4fb3-986a-8612f2a8cc8c
DTSTAMP:20260422T054822Z
DESCRIPTION:Course Dates\nOnline Training Sessions\nDay 1: February 18\, 20
 26 | 9:30 AM to 3:30 PM\nDay 2: February 19\, 2026 | 9:30 AM to 3:30 PM\n
 \nOrganizational Consultation\nWednesday\, March 18\, 2026 or Thursday\, M
 arch 19\, 2026\n\nYou know that successful\, sustainable fund development 
 is about more than just securing dollars. It’s about keeping your fundrais
 ing purposeful\, aligned with your mission\, and built to last. Have you e
 ver struggled with prioritizing opportunities\, knowing which funding sour
 ces to pursue\, measuring progress\, or engaging the right people in ways 
 that truly support your goals? \n\nThe Nonprofit Credential in Fundraising
  and Development\, led by fundraising expert Amberlie Phillips\, gives you
  the strategies\, tools\, and confidence to make thoughtful\, mission-focu
 sed fundraising decisions. This course emphasizes ethical practices\, stra
 tegic planning\, and meaningful relationship-building so your organization
  can grow effectively while staying true to its purpose. \n\nWhat you’ll l
 earn: \n\nHow to apply industry best practices and build trust through eth
 ical and transparent fundraising approaches.\nDevelop a balanced funding p
 ortfolio (including multiple funding sources) to strengthen your organizat
 ion's financial resilience.\nMaster goal setting\, planning\, and evaluati
 on techniques to ensure effective use of resources.\nEngage stakeholders s
 trategically to advance your mission. \nUpon completion\, your organizatio
 n will earn the Nonprofit Credential Fundraising and Development Badge\, a
  mark of excellence to share with your network and show the world you’re s
 erious about making an impact.  \n\nWhat’s Included\nYour journey to fundr
 aising excellence includes:\n\nTwo days of live\, online training with pra
 ctical insights and real-world applications.\nOne-on-One Consultation: A p
 ersonalized session with Amberlie Phillips to address your organization’s 
 unique needs.\nOngoing Coaching and Support: Keep progressing with support
  beyond the course.\nBy participating in this course and completing key de
 liverables\, your organization will earn the Nonprofit Badge in Fundraisin
 g and Development\, demonstrating your commitment to impactful\, responsib
 le fundraising.\n\nWho Should Attend\nNonprofit leaders and staff\, includ
 ing executive leadership and key development staff\, as well as any other 
 team members that would benefit by participating in this Credential course
 . Participants will gain both understanding of essential elements of fundr
 aising as well as a practical path for application of the content.\n\nCost
 \nUNA Members: $200 for the first participant/$40 for each additional part
 icipant\nNot-Yet-Members: $400 for the first participant/$80 for each addi
 tional participant
DTSTART;TZID=America/Denver:20260218T040000
DTEND;TZID=America/Denver:20260219T040001
LOCATION:https://members.utahnonprofits.org/ap/Events/Register/QZFXkazHdCnC
 0
SUMMARY:UNA - 2026 Nonprofit Credential in Fundraising and Development
END:VEVENT
END:VCALENDAR
