BEGIN:VCALENDAR
VERSION:2.0
PRODID:-//caputah.org//NONSGML kigkonsult.se iCalcreator 2.30.10//
CALSCALE:GREGORIAN
METHOD:PUBLISH
UID:b3f926db-11d0-421c-a348-4587aa893bca
X-WR-CALDESC:Learn how the CSBG Organizational Standards strengthen governa
 nce\, accountability\, and operations in Community Action Agencies. This o
 verview highlights how the Standards serve as both a compliance framework 
 and a tool for building organizational capacity.
X-WR-RELCALID:7b79e87740d6d1f6937135f3d4fc94e8
X-WR-TIMEZONE:America/Denver
BEGIN:VTIMEZONE
TZID:America/Denver
BEGIN:STANDARD
TZNAME:MST
DTSTART:20251102T020000
TZOFFSETFROM:-0600
TZOFFSETTO:-0700
RDATE:20261101T020000
END:STANDARD
BEGIN:DAYLIGHT
TZNAME:MDT
DTSTART:20250309T020000
TZOFFSETFROM:-0700
TZOFFSETTO:-0600
RDATE:20260308T020000
RDATE:20270314T020000
END:DAYLIGHT
END:VTIMEZONE
BEGIN:VEVENT
UID:aaa686cc-6f7b-4495-abc8-b7aa98bc2fa9
DTSTAMP:20260422T040952Z
DESCRIPTION:Learn how the CSBG Organizational Standards strengthen governan
 ce\, accountability\, and operations in Community Action Agencies. This ov
 erview highlights how the Standards serve as both a compliance framework a
 nd a tool for building organizational capacity.
DTSTART;TZID=America/Denver:20260224T120000
DTEND;TZID=America/Denver:20260224T130000
LOCATION:https://communityactionpartnership.zoom.us/meeting/register/T9Z6Z_
 _3TUy_d_IWhV8exQ#/registration
SUMMARY:NCAP - From Compliance to Capacity: Understanding the CSBG Organiza
 tional Standards
END:VEVENT
END:VCALENDAR
