BEGIN:VCALENDAR
VERSION:2.0
PRODID:-//caputah.org//NONSGML kigkonsult.se iCalcreator 2.30.10//
CALSCALE:GREGORIAN
METHOD:PUBLISH
UID:18dc466e-099c-44f4-94da-769c834f7d4f
X-WR-CALDESC:Not-for-profit professionals are skilled in delivering service
 s and championing change\, and in pursuit of their mission\, they must als
 o possess an understanding of the organization's financial well-being. Joi
 n us for a discussion of a not-for-profits fiscal responsibilities and an 
 overview of a not-for-profit’s financial statements. We’ll look at a not-f
 or-profit organization’s basic financial statements and supplemental repor
 ts as well as the core aspects of the Form 990 and the audit report.\n\nLe
 arning Objectives\nAt the end of this course\, the attendee will be able t
 o:\n\nIdentify basic components of a not-for-profit's financial statements
 \, supplemental reports\, as well as the core aspects of the Form 990 and 
 the audit report.\nRecommended CPE: 1.0 CPE credit\nField of Study: Accoun
 ting\nDelivery Method: Group Internet Based\nProgram Level: Basic \nPrereq
 uisites: None\nAdvanced Preparation: None\n\n*Attendees must be registered
  individually and click on periodic participation markers throughout the w
 ebinar to receive CPE credit.\n\n
X-WR-RELCALID:8f8550bb794ba4e670a4ad1c0b66f844
X-WR-TIMEZONE:America/Denver
BEGIN:VTIMEZONE
TZID:America/Denver
BEGIN:STANDARD
TZNAME:MST
DTSTART:20251102T020000
TZOFFSETFROM:-0600
TZOFFSETTO:-0700
RDATE:20261101T020000
END:STANDARD
BEGIN:DAYLIGHT
TZNAME:MDT
DTSTART:20250309T020000
TZOFFSETFROM:-0700
TZOFFSETTO:-0600
RDATE:20260308T020000
RDATE:20270314T020000
END:DAYLIGHT
END:VTIMEZONE
BEGIN:VEVENT
UID:1e72ac7f-eed7-4b0a-9564-b28572b1cbea
DTSTAMP:20260422T041059Z
DESCRIPTION:Not-for-profit professionals are skilled in delivering services
  and championing change\, and in pursuit of their mission\, they must also
  possess an understanding of the organization's financial well-being. Join
  us for a discussion of a not-for-profits fiscal responsibilities and an o
 verview of a not-for-profit’s financial statements. We’ll look at a not-fo
 r-profit organization’s basic financial statements and supplemental report
 s as well as the core aspects of the Form 990 and the audit report.\n\nLea
 rning Objectives\nAt the end of this course\, the attendee will be able to
 :\n\nIdentify basic components of a not-for-profit's financial statements\
 , supplemental reports\, as well as the core aspects of the Form 990 and t
 he audit report.\nRecommended CPE: 1.0 CPE credit\nField of Study: Account
 ing\nDelivery Method: Group Internet Based\nProgram Level: Basic \nPrerequ
 isites: None\nAdvanced Preparation: None\n\n*Attendees must be registered 
 individually and click on periodic participation markers throughout the we
 binar to receive CPE credit.\n\n
DTSTART;TZID=America/Denver:20260224T110000
DTEND;TZID=America/Denver:20260224T120000
LOCATION:https://event.on24.com/wcc/r/5180984/292B6B53CEDA0813BD75AED892B20
 A1E
SUMMARY:NCAP - Nonprofit Finances for Non-Finance Professionals
END:VEVENT
END:VCALENDAR
