BEGIN:VCALENDAR
VERSION:2.0
PRODID:-//caputah.org//NONSGML kigkonsult.se iCalcreator 2.30.10//
CALSCALE:GREGORIAN
METHOD:PUBLISH
UID:bf81f62e-4a31-4f37-b815-ebb67af79bed
X-WR-CALDESC:Join NCAP to examine how Community Action Agencies can transfo
 rm Community Assessments from a requirement to a strategic leadership tool
 . Participants will explore how integrating qualitative and quantitative d
 ata with customer input can strengthen alignment of the Agency's mission\,
  strategic goals\, and outcomes.
X-WR-RELCALID:7acc7ecf94ea06778a93d2a3b1a3f49d
X-WR-TIMEZONE:America/Denver
BEGIN:VTIMEZONE
TZID:America/Denver
BEGIN:STANDARD
TZNAME:MST
DTSTART:20251102T020000
TZOFFSETFROM:-0600
TZOFFSETTO:-0700
RDATE:20261101T020000
END:STANDARD
BEGIN:DAYLIGHT
TZNAME:MDT
DTSTART:20250309T020000
TZOFFSETFROM:-0700
TZOFFSETTO:-0600
RDATE:20260308T020000
RDATE:20270314T020000
END:DAYLIGHT
END:VTIMEZONE
BEGIN:VEVENT
UID:a9a58add-78a6-49d9-89b9-9f3308ced34d
DTSTAMP:20260422T041017Z
DESCRIPTION:Join NCAP to examine how Community Action Agencies can transfor
 m Community Assessments from a requirement to a strategic leadership tool.
  Participants will explore how integrating qualitative and quantitative da
 ta with customer input can strengthen alignment of the Agency's mission\, 
 strategic goals\, and outcomes.
DTSTART;TZID=America/Denver:20260225T120000
DTEND;TZID=America/Denver:20260225T130000
LOCATION:https://communityactionpartnership.zoom.us/meeting/register/xY745Y
 rJTO66O7syveuOzg#/registration
SUMMARY:NCAP - Aligning Community Assessments with Your Mission and Goals
END:VEVENT
END:VCALENDAR
