BEGIN:VCALENDAR
VERSION:2.0
PRODID:-//caputah.org//NONSGML kigkonsult.se iCalcreator 2.30.10//
CALSCALE:GREGORIAN
METHOD:PUBLISH
UID:27149649-c03b-4006-8b68-cc8c7780f1d4
X-WR-CALDESC:\nFrom Lessons to Lasting Impact: A Whole Family Approach Webi
 nar \n\nAcross the country\, many Community Action Agencies are adopting a
  Whole Family Approach (WFA) to advance social and economic mobility for f
 amilies. The agencies embarking on this path are  located in urban\, subur
 ban\, rural\, and frontier places with a diverse mix of programs and agenc
 y capacities. \n \nWhile experience  shows that integrated\, family-center
 ed services lead to stronger outcomes for both parents and children\, agen
 cies have learned that success requires more than strong program design\, 
 it demands organizational alignment\, systems change\, and sustained leade
 rship commitment.\n\nThis national webinar offers a deeper look at what im
 plementation truly looks like\, featuring agencies from NCAP’s Regional Ad
 vanced Whole Family Approach Community of Practice. Three agencies will be
  featured on a panel presentation that will highlight their learning and p
 rogress. \n\nTo further enrich the discussion\, the session will support a
  robust Q&A\, offering additional perspectives and responding to participa
 nt questions related to implementation\, readiness\, and sustainability.\n
 \nThis session is designed for agency leaders\, managers\, and practitione
 rs who are seeking practical insights\, peer-informed strategies\, and rea
 ssurance that meaningful\, lasting change is possible\, even when the path
  is complex.
X-WR-RELCALID:237d14bffd3962984724f938f8dd25b3
X-WR-TIMEZONE:America/Denver
BEGIN:VTIMEZONE
TZID:America/Denver
BEGIN:STANDARD
TZNAME:MST
DTSTART:20251102T020000
TZOFFSETFROM:-0600
TZOFFSETTO:-0700
RDATE:20261101T020000
END:STANDARD
BEGIN:DAYLIGHT
TZNAME:MDT
DTSTART:20250309T020000
TZOFFSETFROM:-0700
TZOFFSETTO:-0600
RDATE:20260308T020000
RDATE:20270314T020000
END:DAYLIGHT
END:VTIMEZONE
BEGIN:VEVENT
UID:fac1fb82-3789-4f2f-b767-b41ad5e10c68
DTSTAMP:20260422T040828Z
DESCRIPTION:\nFrom Lessons to Lasting Impact: A Whole Family Approach Webin
 ar \n\nAcross the country\, many Community Action Agencies are adopting a 
 Whole Family Approach (WFA) to advance social and economic mobility for fa
 milies. The agencies embarking on this path are  located in urban\, suburb
 an\, rural\, and frontier places with a diverse mix of programs and agency
  capacities. \n \nWhile experience  shows that integrated\, family-centere
 d services lead to stronger outcomes for both parents and children\, agenc
 ies have learned that success requires more than strong program design\, i
 t demands organizational alignment\, systems change\, and sustained leader
 ship commitment.\n\nThis national webinar offers a deeper look at what imp
 lementation truly looks like\, featuring agencies from NCAP’s Regional Adv
 anced Whole Family Approach Community of Practice. Three agencies will be 
 featured on a panel presentation that will highlight their learning and pr
 ogress. \n\nTo further enrich the discussion\, the session will support a 
 robust Q&A\, offering additional perspectives and responding to participan
 t questions related to implementation\, readiness\, and sustainability.\n
 \nThis session is designed for agency leaders\, managers\, and practitione
 rs who are seeking practical insights\, peer-informed strategies\, and rea
 ssurance that meaningful\, lasting change is possible\, even when the path
  is complex.
DTSTART;TZID=America/Denver:20260225T120000
DTEND;TZID=America/Denver:20260225T130000
LOCATION:https://communityactionpartnership.zoom.us/webinar/register/WN_BFR
 nHivtSDeee9JKvIYxxQ#/registration
SUMMARY:NCAP - Building Stronger Systems\, Stronger Families Webinar Series
END:VEVENT
END:VCALENDAR
