BEGIN:VCALENDAR
VERSION:2.0
PRODID:-//caputah.org//NONSGML kigkonsult.se iCalcreator 2.30.10//
CALSCALE:GREGORIAN
METHOD:PUBLISH
UID:bc1aeff0-7fad-4a33-8e45-fa53a063f4a7
X-WR-CALDESC:Thursday\, February 26\, 2026 \nPresenters will discuss how Ca
 lifornia Community Action Agencies and Associations collaborate and coordi
 nate to reduce deferrals and multiply energy conservation measures\, model
 ing best practices for the rest of the WAP network. \n\nYou can choose to 
 attend one or more of the following webinars.\n\nFeb 11\, 2026 12:00 PM\nF
 eb 17\, 2026 12:00 PM\nFeb 26\, 2026 12:00 PM\nMar 4\, 2026 12:00 PM
X-WR-RELCALID:5f938b3f6b603215a262db55b384fc57
X-WR-TIMEZONE:America/Denver
BEGIN:VTIMEZONE
TZID:America/Denver
BEGIN:STANDARD
TZNAME:MST
DTSTART:20251102T020000
TZOFFSETFROM:-0600
TZOFFSETTO:-0700
RDATE:20261101T020000
END:STANDARD
BEGIN:DAYLIGHT
TZNAME:MDT
DTSTART:20250309T020000
TZOFFSETFROM:-0700
TZOFFSETTO:-0600
RDATE:20260308T020000
RDATE:20270314T020000
END:DAYLIGHT
END:VTIMEZONE
BEGIN:VEVENT
UID:c2ddce2c-9617-49de-989f-de07ed05ac6c
DTSTAMP:20260422T041001Z
DESCRIPTION:Thursday\, February 26\, 2026 \nPresenters will discuss how Cal
 ifornia Community Action Agencies and Associations collaborate and coordin
 ate to reduce deferrals and multiply energy conservation measures\, modeli
 ng best practices for the rest of the WAP network. \n\nYou can choose to a
 ttend one or more of the following webinars.\n\nFeb 11\, 2026 12:00 PM\nFe
 b 17\, 2026 12:00 PM\nFeb 26\, 2026 12:00 PM\nMar 4\, 2026 12:00 PM
DTSTART;TZID=America/Denver:20260226T120000
DTEND;TZID=America/Denver:20260226T130000
LOCATION:https://communityactionpartnership.zoom.us/webinar/register/WN_pDg
 YddMySBGPraLUmkOL3Q#/registration
SUMMARY:NCAP - Advanced Weatherization Strategies for Lowering Household En
 ergy Costs: In-depth virtual trainings and case studies
END:VEVENT
END:VCALENDAR
