BEGIN:VCALENDAR
VERSION:2.0
PRODID:-//caputah.org//NONSGML kigkonsult.se iCalcreator 2.30.10//
CALSCALE:GREGORIAN
METHOD:PUBLISH
UID:6430a0d2-8c2a-4d90-b39b-10abd6fbf444
X-WR-CALDESC:The Whole Family Approach (WFA) Kickstarter is a unique\, inte
 nsive learning opportunity that strategically positions agencies to design
  and implement a proven framework for advancing social and economic mobili
 ty for families—supporting efforts to interrupt intergenerational poverty 
 and foster a legacy of wealth and well-being.\n\nThe Whole Family Approach
  (WFA) Kickstarter is for:\n\nAgencies at the early stages of WFA explorat
 ion or planning: If your agency is just starting to consider implementing 
 a Whole Family Approach\, the WFA Kickstarter is a great place to begin.\n
 Agencies with a history of WFA implementation: Even if your agency has exp
 erience with WFA\, the Kickstarter can be a valuable opportunity to refres
 h your knowledge\, learn about new best practices\, and train new staff.\n
 \nKey Benefits:\n\nEnhanced Understanding of WFA: A deeper knowledge of th
 e WFA framework and how it effectively promotes social and economic mobili
 ty (SEM) for families\nIncreased Organization Capacity for Impact: Discove
 ry and development of infrastructure necessary for successful WFA implemen
 tation\nExpert Guidance and Feedback: Opportunities to engage with seasone
 d WFA professionals and community action peers\nFoster a Sense of Communit
 y: Create a supportive and collaborative environment for participants to c
 onnect\, network\, and learn from each other
X-WR-RELCALID:21b64034a6c24bd60e53a723073ec44d
X-WR-TIMEZONE:America/Denver
BEGIN:VTIMEZONE
TZID:America/Denver
BEGIN:STANDARD
TZNAME:MST
DTSTART:20251102T020000
TZOFFSETFROM:-0600
TZOFFSETTO:-0700
RDATE:20261101T020000
END:STANDARD
BEGIN:DAYLIGHT
TZNAME:MDT
DTSTART:20250309T020000
TZOFFSETFROM:-0700
TZOFFSETTO:-0600
RDATE:20260308T020000
RDATE:20270314T020000
END:DAYLIGHT
END:VTIMEZONE
BEGIN:VEVENT
UID:d6cbaf77-a3dd-4b29-800f-c4e7ebc0dae7
DTSTAMP:20260422T040430Z
DESCRIPTION:The Whole Family Approach (WFA) Kickstarter is a unique\, inten
 sive learning opportunity that strategically positions agencies to design 
 and implement a proven framework for advancing social and economic mobilit
 y for families—supporting efforts to interrupt intergenerational poverty a
 nd foster a legacy of wealth and well-being.\n\nThe Whole Family Approach 
 (WFA) Kickstarter is for:\n\nAgencies at the early stages of WFA explorati
 on or planning: If your agency is just starting to consider implementing a
  Whole Family Approach\, the WFA Kickstarter is a great place to begin.\nA
 gencies with a history of WFA implementation: Even if your agency has expe
 rience with WFA\, the Kickstarter can be a valuable opportunity to refresh
  your knowledge\, learn about new best practices\, and train new staff.\n
 \nKey Benefits:\n\nEnhanced Understanding of WFA: A deeper knowledge of th
 e WFA framework and how it effectively promotes social and economic mobili
 ty (SEM) for families\nIncreased Organization Capacity for Impact: Discove
 ry and development of infrastructure necessary for successful WFA implemen
 tation\nExpert Guidance and Feedback: Opportunities to engage with seasone
 d WFA professionals and community action peers\nFoster a Sense of Communit
 y: Create a supportive and collaborative environment for participants to c
 onnect\, network\, and learn from each other
DTSTART;TZID=America/Denver:20260226T130000
DTEND;TZID=America/Denver:20260226T140000
LOCATION:https://communityactionpartnership.zoom.us/meeting/register/6hf_Zn
 m3Q52lUXGgwiqZAQ#/registration
SUMMARY:NCAP - Spring WFA Kickstarter Information Session
END:VEVENT
END:VCALENDAR
