BEGIN:VCALENDAR
VERSION:2.0
PRODID:-//caputah.org//NONSGML kigkonsult.se iCalcreator 2.30.10//
CALSCALE:GREGORIAN
METHOD:PUBLISH
UID:5ea5ad89-7f87-4ef0-8200-0cc4a97475de
X-WR-CALDESC:New! This Executive Director Community will have options for b
 oth in-person and the ability to join by Zoom. \n\nUNA’s Executive Directo
 r Community Circles provide leaders with an opportunity to build authentic
 \, trusted relationships with extraordinary\, like-minded peers. Join us t
 his month\, in person\, to both find and give support and to have those un
 expected\, energizing conversations that spark exciting ideas or help solv
 e problems.\n\nThese confidential discussions create a safe\, private spac
 e to build long-term relationships and cultivate trust within the nonprofi
 t community. Attend to make your nonprofit stronger and more resilient\, a
 nd to pay forward the gifts of those who trained\, encouraged\, and mentor
 ed you. Your world\, and your impact\, will grow larger and more powerful.
 \n\nWho Should Attend?\nThese conversations are exclusively for Executive 
 Directors/CEOs of UNA member nonprofit organizations.\n\nWhy Attend?\n\nEx
 pand your reach and capacity through new ideas\, resources\, and relations
 hips.\nStay up to date with trends and best practices within your segment\
 , region\, and Utah’s nonprofit community.\nLearn about and share new tech
 nologies or services that can help save time\, money\, and frustration.\nF
 ind help—and offer support—to people who understand your work and share yo
 ur vision for a better world.\nShare your experience and expertise to lift
  the nonprofit community (and enjoy how good it feels!).\nUNA members: Ple
 ase log in to register for this members-only event.\n\nNote: Community Cir
 cle sessions are not recorded.\n\nLocation\nIndie Square\n\nParking is fre
 e and plentiful. The gathering will take place in the main floor training 
 room.
X-WR-RELCALID:99559b40bf1f0d24af85ae5db0dd5934
X-WR-TIMEZONE:America/Denver
BEGIN:VTIMEZONE
TZID:America/Denver
BEGIN:STANDARD
TZNAME:MST
DTSTART:20251102T020000
TZOFFSETFROM:-0600
TZOFFSETTO:-0700
RDATE:20261101T020000
END:STANDARD
BEGIN:DAYLIGHT
TZNAME:MDT
DTSTART:20250309T020000
TZOFFSETFROM:-0700
TZOFFSETTO:-0600
RDATE:20260308T020000
RDATE:20270314T020000
END:DAYLIGHT
END:VTIMEZONE
BEGIN:VEVENT
UID:597b4f64-a436-40e3-b04a-7b4647ac687b
DTSTAMP:20260422T041217Z
DESCRIPTION:New! This Executive Director Community will have options for bo
 th in-person and the ability to join by Zoom. \n\nUNA’s Executive Director
  Community Circles provide leaders with an opportunity to build authentic\
 , trusted relationships with extraordinary\, like-minded peers. Join us th
 is month\, in person\, to both find and give support and to have those une
 xpected\, energizing conversations that spark exciting ideas or help solve
  problems.\n\nThese confidential discussions create a safe\, private space
  to build long-term relationships and cultivate trust within the nonprofit
  community. Attend to make your nonprofit stronger and more resilient\, an
 d to pay forward the gifts of those who trained\, encouraged\, and mentore
 d you. Your world\, and your impact\, will grow larger and more powerful.
 \n\nWho Should Attend?\nThese conversations are exclusively for Executive 
 Directors/CEOs of UNA member nonprofit organizations.\n\nWhy Attend?\n\nEx
 pand your reach and capacity through new ideas\, resources\, and relations
 hips.\nStay up to date with trends and best practices within your segment\
 , region\, and Utah’s nonprofit community.\nLearn about and share new tech
 nologies or services that can help save time\, money\, and frustration.\nF
 ind help—and offer support—to people who understand your work and share yo
 ur vision for a better world.\nShare your experience and expertise to lift
  the nonprofit community (and enjoy how good it feels!).\nUNA members: Ple
 ase log in to register for this members-only event.\n\nNote: Community Cir
 cle sessions are not recorded.\n\nLocation\nIndie Square\n\nParking is fre
 e and plentiful. The gathering will take place in the main floor training 
 room.
DTSTART;TZID=America/Denver:20260226T160000
DTEND;TZID=America/Denver:20260226T173000
LOCATION:Indie Square\, 141 E 5600 S\, Murray\, UT 84107 US
SUMMARY:UNA - Salt Lake City Executive Director Community Circle February
END:VEVENT
END:VCALENDAR
