BEGIN:VCALENDAR
VERSION:2.0
PRODID:-//caputah.org//NONSGML kigkonsult.se iCalcreator 2.30.10//
CALSCALE:GREGORIAN
METHOD:PUBLISH
UID:2b5085f3-0685-4be4-93a8-cb09d96ad013
X-WR-CALDESC:Wednesday\, March 4\, 2026 \nTrainers will detail opportunitie
 s for maximizing the impact of DOE WAP Health and Safety funds\, DOE WAP L
 everaging Activity funds\, and LIHEAP WAP transfer funds. Participants wil
 l learn how to work with state planning processes to bring as many resourc
 es as possible to their community. \n\nYou can choose to attend one or mor
 e of the following webinars.\n\nFeb 11\, 2026 12:00 PM\nFeb 17\, 2026 12:0
 0 PM\nFeb 26\, 2026 12:00 PM\nMar 4\, 2026 12:00 PM
X-WR-RELCALID:71926bb96fb4ce9acf6d0e7c2ca91f5d
X-WR-TIMEZONE:America/Denver
BEGIN:VTIMEZONE
TZID:America/Denver
BEGIN:STANDARD
TZNAME:MST
DTSTART:20251102T020000
TZOFFSETFROM:-0600
TZOFFSETTO:-0700
RDATE:20261101T020000
END:STANDARD
BEGIN:DAYLIGHT
TZNAME:MDT
DTSTART:20250309T020000
TZOFFSETFROM:-0700
TZOFFSETTO:-0600
RDATE:20260308T020000
RDATE:20270314T020000
END:DAYLIGHT
END:VTIMEZONE
BEGIN:VEVENT
UID:44de9f28-187e-43df-ab41-ec5fd46f1791
DTSTAMP:20260422T023852Z
DESCRIPTION:Wednesday\, March 4\, 2026 \nTrainers will detail opportunities
  for maximizing the impact of DOE WAP Health and Safety funds\, DOE WAP Le
 veraging Activity funds\, and LIHEAP WAP transfer funds. Participants will
  learn how to work with state planning processes to bring as many resource
 s as possible to their community. \n\nYou can choose to attend one or more
  of the following webinars.\n\nFeb 11\, 2026 12:00 PM\nFeb 17\, 2026 12:00
  PM\nFeb 26\, 2026 12:00 PM\nMar 4\, 2026 12:00 PM
DTSTART;TZID=America/Denver:20260304T120000
DTEND;TZID=America/Denver:20260304T130000
LOCATION:https://communityactionpartnership.zoom.us/webinar/register/WN_pDg
 YddMySBGPraLUmkOL3Q#/registration
SUMMARY:NCAP - Advanced Weatherization Strategies for Lowering Household En
 ergy Costs: In-depth virtual trainings and case studies
END:VEVENT
END:VCALENDAR
