BEGIN:VCALENDAR
VERSION:2.0
PRODID:-//caputah.org//NONSGML kigkonsult.se iCalcreator 2.30.10//
CALSCALE:GREGORIAN
METHOD:PUBLISH
UID:92de3c4b-967c-4537-a5d3-e51811832187
X-WR-CALDESC:The Organizational Standards Skill Builder is a comprehensive 
 virtual training designed specifically for Community Action Agencies to en
 hance their capacity to meet the CSBG Organizational Standards. Participan
 ts can expect to gain the knowledge and tools necessary to build the core 
 practices required to meet the standards\, serving as a strong foundation 
 for going beyond compliance.\n\nKey Features of the Training:\n\nUnderstan
 ding the Organizational Standards: Gain a clear understanding of key stand
 ards\, their importance\, and how they align with your organization's miss
 ion and goals.\nBuilding Core Practices: Learn essential practices and str
 ategies to meet the Organizational Standards.\nTools and Resources: Access
  valuable tools and resources that will support your efforts in implementi
 ng and maintaining the Organizational Standards and their associated core 
 practices.\nInteractive Sessions: Engage in interactive discussions and ac
 tivities designed to deepen your understanding and application of the stan
 dards.\nExpert Guidance: Receive insights and guidance from experienced pr
 ofessionals who have successfully navigated the Organizational Standards i
 n their organizations.\nVirtual Skill Builder Details:\n\nThis is a two-pa
 rt virtual event with 4-hour sessions over two days. For the best learning
  experience\, participants should plan to attend both sessions.\n\nDay 1: 
 Wednesday\, March 4 from 1 PM – 5 PM ET (12 PM – 4 PM CT | 11 AM – 3 PM MT
  | 10 AM – 2 PM PT)\n\nDay 2: Thursday\, March 5 from 1 PM – 5 PM ET (12 P
 M – 4 PM CT | 11 AM – 3 PM MT | 10 AM – 2 PM PT)
X-WR-RELCALID:9b7b6e2521b489ee0623ad937f1e835b
X-WR-TIMEZONE:America/Denver
BEGIN:VTIMEZONE
TZID:America/Denver
BEGIN:STANDARD
TZNAME:MST
DTSTART:20251102T020000
TZOFFSETFROM:-0600
TZOFFSETTO:-0700
RDATE:20261101T020000
END:STANDARD
BEGIN:DAYLIGHT
TZNAME:MDT
DTSTART:20250309T020000
TZOFFSETFROM:-0700
TZOFFSETTO:-0600
RDATE:20260308T020000
RDATE:20270314T020000
END:DAYLIGHT
END:VTIMEZONE
BEGIN:VEVENT
UID:cdda4674-2342-49de-819d-db97e33760a1
DTSTAMP:20260422T023414Z
DESCRIPTION:The Organizational Standards Skill Builder is a comprehensive v
 irtual training designed specifically for Community Action Agencies to enh
 ance their capacity to meet the CSBG Organizational Standards. Participant
 s can expect to gain the knowledge and tools necessary to build the core p
 ractices required to meet the standards\, serving as a strong foundation f
 or going beyond compliance.\n\nKey Features of the Training:\n\nUnderstand
 ing the Organizational Standards: Gain a clear understanding of key standa
 rds\, their importance\, and how they align with your organization's missi
 on and goals.\nBuilding Core Practices: Learn essential practices and stra
 tegies to meet the Organizational Standards.\nTools and Resources: Access 
 valuable tools and resources that will support your efforts in implementin
 g and maintaining the Organizational Standards and their associated core p
 ractices.\nInteractive Sessions: Engage in interactive discussions and act
 ivities designed to deepen your understanding and application of the stand
 ards.\nExpert Guidance: Receive insights and guidance from experienced pro
 fessionals who have successfully navigated the Organizational Standards in
  their organizations.\nVirtual Skill Builder Details:\n\nThis is a two-par
 t virtual event with 4-hour sessions over two days. For the best learning 
 experience\, participants should plan to attend both sessions.\n\nDay 1: W
 ednesday\, March 4 from 1 PM – 5 PM ET (12 PM – 4 PM CT | 11 AM – 3 PM MT 
 | 10 AM – 2 PM PT)\n\nDay 2: Thursday\, March 5 from 1 PM – 5 PM ET (12 PM
  – 4 PM CT | 11 AM – 3 PM MT | 10 AM – 2 PM PT)
DTSTART;TZID=America/Denver:20260304T040000
DTEND;TZID=America/Denver:20260305T040001
LOCATION:https://ncap.users.membersuite.com/events/9a6db3bd-0078-c0b6-3843-
 0b4924c135c0/details
SUMMARY:NCAP - 2026 Organizational Standards Skill Builder - 2026 Organizat
 ional Standards Skill Builder
END:VEVENT
END:VCALENDAR
