BEGIN:VCALENDAR
VERSION:2.0
PRODID:-//caputah.org//NONSGML kigkonsult.se iCalcreator 2.30.10//
CALSCALE:GREGORIAN
METHOD:PUBLISH
UID:6addc951-7835-483f-b7cc-4bb34e64b266
X-WR-CALDESC:Join NCAP for a one-hour session designed to help Certified Co
 mmunity Action Professionals (CCAPs) successfully maintain their credentia
 l. We’ll review the renewal process\, share best practices for tracking an
 d reporting your continuing learning and engagement activities\, and answe
 r your questions about timelines and documentation. This session is especi
 ally valuable for CCAPs planning to renew in 2026. You worked hard to earn
  your CCAP—let’s make sure you’re ready to keep your credential active and
  recognized!
X-WR-RELCALID:bc67277cd3f75145becc4d568d3940ea
X-WR-TIMEZONE:America/Denver
BEGIN:VTIMEZONE
TZID:America/Denver
BEGIN:STANDARD
TZNAME:MST
DTSTART:20251102T020000
TZOFFSETFROM:-0600
TZOFFSETTO:-0700
RDATE:20261101T020000
END:STANDARD
BEGIN:DAYLIGHT
TZNAME:MDT
DTSTART:20250309T020000
TZOFFSETFROM:-0700
TZOFFSETTO:-0600
RDATE:20260308T020000
RDATE:20270314T020000
END:DAYLIGHT
END:VTIMEZONE
BEGIN:VEVENT
UID:49c00982-cd18-4788-ae30-506518d905a8
DTSTAMP:20260422T023636Z
DESCRIPTION:Join NCAP for a one-hour session designed to help Certified Com
 munity Action Professionals (CCAPs) successfully maintain their credential
 . We’ll review the renewal process\, share best practices for tracking and
  reporting your continuing learning and engagement activities\, and answer
  your questions about timelines and documentation. This session is especia
 lly valuable for CCAPs planning to renew in 2026. You worked hard to earn 
 your CCAP—let’s make sure you’re ready to keep your credential active and 
 recognized!
DTSTART;TZID=America/Denver:20260305T110000
DTEND;TZID=America/Denver:20260305T120000
LOCATION:https://ncap.users.membersuite.com/events/browse
SUMMARY:NCAP - Renewing Your CCAP: What You Need to Know
END:VEVENT
END:VCALENDAR
