BEGIN:VCALENDAR
VERSION:2.0
PRODID:-//caputah.org//NONSGML kigkonsult.se iCalcreator 2.30.10//
CALSCALE:GREGORIAN
METHOD:PUBLISH
UID:6b7baf72-0cb2-44e0-a7c2-066b52a7ac28
X-WR-CALDESC:You deeply care about and appreciate your donors because they 
 are what make your vision and mission come to life. But with all the hats 
 you wear\, keeping up relationally can feel overwhelming. This session wil
 l help create a realistic\, intentional approach to donor stewardship. You
 ’ll explore ways to track donor engagement\, plan meaningful stewardship a
 ctions\, and build touchpoints that make donors feel valued. You’ll also l
 earn how to involve your board and staff so stewardship becomes a shared\,
  sustainable practice and not just one person’s responsibility.\n\nWhat Yo
 u Will Learn: \n\nHow to identify and manage top prospects\nHow to create 
 a year-round cultivation and stewardship plan\nHow to integrate an organiz
 ation’s routine annual activities into the cultivation and stewardship pla
 n\nWays to engage prospects into an organization’s normal activities\nWays
  to utilize board members in the cultivation and stewardship plan\nWhen\nT
 hursday\, March 5 | 11:00 AM to 1:00 PM (online\; recording will be shared
  following the training)\n\nWho Should Attend:\nExecutive Directors\, Boar
 d Members\, Fund Developers\, and UTAHGIVES Participants\n\nUTAHGIVES Part
 icipants will be able to attend this training for FREE! Promo codes will b
 e sent out following registration and prior to the training.\n\nCost\nUNA 
 Members $45 | Not Yet Members $90 | FREE for UTAHGIVES Participants (with 
 promo code)
X-WR-RELCALID:a6d8e7f72e010aa06bf5792760bb3245
X-WR-TIMEZONE:America/Denver
BEGIN:VTIMEZONE
TZID:America/Denver
BEGIN:STANDARD
TZNAME:MST
DTSTART:20251102T020000
TZOFFSETFROM:-0600
TZOFFSETTO:-0700
RDATE:20261101T020000
END:STANDARD
BEGIN:DAYLIGHT
TZNAME:MDT
DTSTART:20250309T020000
TZOFFSETFROM:-0700
TZOFFSETTO:-0600
RDATE:20260308T020000
RDATE:20270314T020000
END:DAYLIGHT
END:VTIMEZONE
BEGIN:VEVENT
UID:0ebd7aba-9eb0-4ae5-8efb-8a6d8e9324b0
DTSTAMP:20260422T023442Z
DESCRIPTION:You deeply care about and appreciate your donors because they a
 re what make your vision and mission come to life. But with all the hats y
 ou wear\, keeping up relationally can feel overwhelming. This session will
  help create a realistic\, intentional approach to donor stewardship. You’
 ll explore ways to track donor engagement\, plan meaningful stewardship ac
 tions\, and build touchpoints that make donors feel valued. You’ll also le
 arn how to involve your board and staff so stewardship becomes a shared\, 
 sustainable practice and not just one person’s responsibility.\n\nWhat You
  Will Learn: \n\nHow to identify and manage top prospects\nHow to create a
  year-round cultivation and stewardship plan\nHow to integrate an organiza
 tion’s routine annual activities into the cultivation and stewardship plan
 \nWays to engage prospects into an organization’s normal activities\nWays 
 to utilize board members in the cultivation and stewardship plan\nWhen\nTh
 ursday\, March 5 | 11:00 AM to 1:00 PM (online\; recording will be shared 
 following the training)\n\nWho Should Attend:\nExecutive Directors\, Board
  Members\, Fund Developers\, and UTAHGIVES Participants\n\nUTAHGIVES Parti
 cipants will be able to attend this training for FREE! Promo codes will be
  sent out following registration and prior to the training.\n\nCost\nUNA M
 embers $45 | Not Yet Members $90 | FREE for UTAHGIVES Participants (with p
 romo code)
DTSTART;TZID=America/Denver:20260305T110000
DTEND;TZID=America/Denver:20260305T130000
LOCATION:https://members.utahnonprofits.org/ap/Events/Register/qWF8z9BIQFQC
 e
SUMMARY:UNA - Relationships that Last: Cultivating Donor Engagement
END:VEVENT
END:VCALENDAR
