BEGIN:VCALENDAR
VERSION:2.0
PRODID:-//caputah.org//NONSGML kigkonsult.se iCalcreator 2.30.10//
CALSCALE:GREGORIAN
METHOD:PUBLISH
UID:255375cd-44ef-4ba7-9284-bfbc95af879a
X-WR-CALDESC:Join NCAP for the 2026 New State Association Executive Directo
 r / CEO Orientation. \n\nThis conversational session is meant to orient St
 ate Association directors to their unique role within a State Association 
 and the Community Action Network and provide new State Association executi
 ves with the opportunity to connect with their peers from around the count
 ry. \n\nThis session is offered as a member benefit to those with five yea
 rs or less experience in their State Association leadership role
X-WR-RELCALID:b4e229558cba5ea02964d641dc9bccaa
X-WR-TIMEZONE:America/Denver
BEGIN:VTIMEZONE
TZID:America/Denver
BEGIN:STANDARD
TZNAME:MST
DTSTART:20251102T020000
TZOFFSETFROM:-0600
TZOFFSETTO:-0700
RDATE:20261101T020000
END:STANDARD
BEGIN:DAYLIGHT
TZNAME:MDT
DTSTART:20260308T020000
TZOFFSETFROM:-0700
TZOFFSETTO:-0600
RDATE:20270314T020000
END:DAYLIGHT
END:VTIMEZONE
BEGIN:VEVENT
UID:363d65fa-3ffe-4856-b59e-5127ba08eaa7
DTSTAMP:20260422T023415Z
DESCRIPTION:Join NCAP for the 2026 New State Association Executive Director
  / CEO Orientation. \n\nThis conversational session is meant to orient Sta
 te Association directors to their unique role within a State Association a
 nd the Community Action Network and provide new State Association executiv
 es with the opportunity to connect with their peers from around the countr
 y. \n\nThis session is offered as a member benefit to those with five year
 s or less experience in their State Association leadership role
DTSTART;TZID=America/Denver:20260310T120000
DTEND;TZID=America/Denver:20260310T130000
LOCATION:https://communityactionpartnership.zoom.us/meeting/register/uvidjM
 CpQOKEl4kNZWpgLg#/registration
SUMMARY:NCAP - New State Association ED/CEO Orientation
END:VEVENT
END:VCALENDAR
