BEGIN:VCALENDAR
VERSION:2.0
PRODID:-//caputah.org//NONSGML kigkonsult.se iCalcreator 2.30.10//
CALSCALE:GREGORIAN
METHOD:PUBLISH
UID:a5319b57-75c9-4dd7-8301-c89583217b67
X-WR-CALDESC:The Whole Family Approach (WFA) Kickstarter is a unique\, inte
 nsive learning opportunity that strategically positions agencies to design
  and implement a proven framework for advancing social and economic mobili
 ty for families—supporting efforts to interrupt intergenerational poverty 
 and foster a legacy of wealth and well-being.\n\nThe Whole Family Approach
  (WFA) Kickstarter is for:\n\nAgencies at the early stages of WFA explorat
 ion or planning: If your agency is just starting to consider implementing 
 a Whole Family Approach\, the WFA Kickstarter is a great place to begin.\n
 Agencies with a history of WFA implementation: Even if your agency has exp
 erience with WFA\, the Kickstarter can be a valuable opportunity to refres
 h your knowledge\, learn about new best practices\, and train new staff.\n
 \nKey Benefits:\n\nEnhanced Understanding of WFA: A deeper knowledge of th
 e WFA framework and how it effectively promotes social and economic mobili
 ty (SEM) for families\nIncreased Organization Capacity for Impact: Discove
 ry and development of infrastructure necessary for successful WFA implemen
 tation\nExpert Guidance and Feedback: Opportunities to engage with seasone
 d WFA professionals and community action peers\nFoster a Sense of Communit
 y: Create a supportive and collaborative environment for participants to c
 onnect\, network\, and learn from each other
X-WR-RELCALID:37a211cc58f403bab761ea331af512e5
X-WR-TIMEZONE:America/Denver
BEGIN:VTIMEZONE
TZID:America/Denver
BEGIN:STANDARD
TZNAME:MST
DTSTART:20251102T020000
TZOFFSETFROM:-0600
TZOFFSETTO:-0700
RDATE:20261101T020000
END:STANDARD
BEGIN:DAYLIGHT
TZNAME:MDT
DTSTART:20260308T020000
TZOFFSETFROM:-0700
TZOFFSETTO:-0600
RDATE:20270314T020000
END:DAYLIGHT
END:VTIMEZONE
BEGIN:VEVENT
UID:ab1789c8-673f-44d9-845f-d14fac975102
DTSTAMP:20260422T023300Z
DESCRIPTION:The Whole Family Approach (WFA) Kickstarter is a unique\, inten
 sive learning opportunity that strategically positions agencies to design 
 and implement a proven framework for advancing social and economic mobilit
 y for families—supporting efforts to interrupt intergenerational poverty a
 nd foster a legacy of wealth and well-being.\n\nThe Whole Family Approach 
 (WFA) Kickstarter is for:\n\nAgencies at the early stages of WFA explorati
 on or planning: If your agency is just starting to consider implementing a
  Whole Family Approach\, the WFA Kickstarter is a great place to begin.\nA
 gencies with a history of WFA implementation: Even if your agency has expe
 rience with WFA\, the Kickstarter can be a valuable opportunity to refresh
  your knowledge\, learn about new best practices\, and train new staff.\n
 \nKey Benefits:\n\nEnhanced Understanding of WFA: A deeper knowledge of th
 e WFA framework and how it effectively promotes social and economic mobili
 ty (SEM) for families\nIncreased Organization Capacity for Impact: Discove
 ry and development of infrastructure necessary for successful WFA implemen
 tation\nExpert Guidance and Feedback: Opportunities to engage with seasone
 d WFA professionals and community action peers\nFoster a Sense of Communit
 y: Create a supportive and collaborative environment for participants to c
 onnect\, network\, and learn from each other
DTSTART;TZID=America/Denver:20260310T140000
DTEND;TZID=America/Denver:20260310T150000
LOCATION:https://communityactionpartnership.zoom.us/meeting/register/kxUM8r
 MCQp2H2UzaInQrjg#/registration
SUMMARY:NCAP - Spring WFA Kickstarter Information Session
END:VEVENT
END:VCALENDAR
