BEGIN:VCALENDAR
VERSION:2.0
PRODID:-//caputah.org//NONSGML kigkonsult.se iCalcreator 2.30.10//
CALSCALE:GREGORIAN
METHOD:PUBLISH
UID:5374f3d2-3e44-4c14-a3b6-7ff077b2234c
X-WR-CALDESC:\nReady to move from learning about the Whole Family Approach 
 to putting it into practice?\nJoin this interactive webinar to take a deep
 er look at Whole Family Approach (WFA) tools and resources that support ag
 encies in designing\, implementing\, and strengthening their WFA efforts. 
 In this session we’ll explore how tools such as the WFA Design Plan\, Buil
 ding Blocks and Resource Guide\, Readiness Assessment\, and Pilot Charter 
 Template work together to drive intentional design\, strengthen alignment 
 across programs\, and support ongoing growth and change.\nWhether you’re j
 ust getting started or refining your Whole Family Approach efforts\, this 
 webinar is designed to meet you where you are. Participants will gain prac
 tical examples\, real-world implementation insights\, and guidance on usin
 g these resources within their organizations. You’ll walk away with action
 able tools\, clearer alignment strategies\, and a preview of what’s ahead 
 for your WFA.
X-WR-RELCALID:1cc98eafaeec5e59b7647cd078a80c8c
X-WR-TIMEZONE:America/Denver
BEGIN:VTIMEZONE
TZID:America/Denver
BEGIN:STANDARD
TZNAME:MST
DTSTART:20251102T020000
TZOFFSETFROM:-0600
TZOFFSETTO:-0700
RDATE:20261101T020000
END:STANDARD
BEGIN:DAYLIGHT
TZNAME:MDT
DTSTART:20260308T020000
TZOFFSETFROM:-0700
TZOFFSETTO:-0600
RDATE:20270314T020000
END:DAYLIGHT
END:VTIMEZONE
BEGIN:VEVENT
UID:7f323e90-5ef3-448d-8cb2-ed9d831a23c0
DTSTAMP:20260422T023605Z
DESCRIPTION:\nReady to move from learning about the Whole Family Approach t
 o putting it into practice?\nJoin this interactive webinar to take a deepe
 r look at Whole Family Approach (WFA) tools and resources that support age
 ncies in designing\, implementing\, and strengthening their WFA efforts. I
 n this session we’ll explore how tools such as the WFA Design Plan\, Build
 ing Blocks and Resource Guide\, Readiness Assessment\, and Pilot Charter T
 emplate work together to drive intentional design\, strengthen alignment a
 cross programs\, and support ongoing growth and change.\nWhether you’re ju
 st getting started or refining your Whole Family Approach efforts\, this w
 ebinar is designed to meet you where you are. Participants will gain pract
 ical examples\, real-world implementation insights\, and guidance on using
  these resources within their organizations. You’ll walk away with actiona
 ble tools\, clearer alignment strategies\, and a preview of what’s ahead f
 or your WFA.
DTSTART;TZID=America/Denver:20260311T120000
DTEND;TZID=America/Denver:20260311T130000
LOCATION:https://communityactionpartnership.zoom.us/webinar/register/WN_v4I
 0V3p0R7SfL4e4uzOIcQ#/registration
SUMMARY:NCAP - Whole Family Approach Resource Round-up
END:VEVENT
END:VCALENDAR
