BEGIN:VCALENDAR
VERSION:2.0
PRODID:-//caputah.org//NONSGML kigkonsult.se iCalcreator 2.30.10//
CALSCALE:GREGORIAN
METHOD:PUBLISH
UID:d88dbb60-7686-4d00-b7c0-8d907bbe38d5
X-WR-CALDESC:The 2026 CCAP Proctored Examination will be administered on We
 dnesday\, April 15. Candidates planning to sit for the Proctored Exam are 
 invited to join CCAP program staff for this informational tour covering wh
 at to expect before\, during and after Exam Day. Trainers will reinforce i
 mportant dates\, steps CCAP Candidates are expected to take\, and\, rules 
 for Exam Day. Participants will receive a first-hand look at the online Co
 mmunity Action Academy platform through which the Proctored Exam will be a
 dministered\, and we will leave as much time as needed to answer Candidate
  questions. 
X-WR-RELCALID:f447480f06355c5dcf38896ec947a0a7
X-WR-TIMEZONE:America/Denver
BEGIN:VTIMEZONE
TZID:America/Denver
BEGIN:STANDARD
TZNAME:MST
DTSTART:20251102T020000
TZOFFSETFROM:-0600
TZOFFSETTO:-0700
RDATE:20261101T020000
END:STANDARD
BEGIN:DAYLIGHT
TZNAME:MDT
DTSTART:20260308T020000
TZOFFSETFROM:-0700
TZOFFSETTO:-0600
RDATE:20270314T020000
END:DAYLIGHT
END:VTIMEZONE
BEGIN:VEVENT
UID:cfbde149-747f-44e3-aecf-9b15287d533c
DTSTAMP:20260422T023446Z
DESCRIPTION:The 2026 CCAP Proctored Examination will be administered on Wed
 nesday\, April 15. Candidates planning to sit for the Proctored Exam are i
 nvited to join CCAP program staff for this informational tour covering wha
 t to expect before\, during and after Exam Day. Trainers will reinforce im
 portant dates\, steps CCAP Candidates are expected to take\, and\, rules f
 or Exam Day. Participants will receive a first-hand look at the online Com
 munity Action Academy platform through which the Proctored Exam will be ad
 ministered\, and we will leave as much time as needed to answer Candidate 
 questions. 
DTSTART;TZID=America/Denver:20260312T110000
DTEND;TZID=America/Denver:20260312T120000
LOCATION:https://ncap.users.membersuite.com/events/browse
SUMMARY:NCAP -Tips for Success with the CCAP Proctored Exam
END:VEVENT
END:VCALENDAR
