BEGIN:VCALENDAR
VERSION:2.0
PRODID:-//caputah.org//NONSGML kigkonsult.se iCalcreator 2.30.10//
CALSCALE:GREGORIAN
METHOD:PUBLISH
UID:0c01cf50-f7a2-4e18-89b0-ac7ec58ae4e1
X-WR-CALDESC:Catch up with friends (and make new ones!) while building your
  network\, learning about UNA\, and having meaningful discussions about to
 pics affecting the nonprofit sector.\n\nWe will be providing light refresh
 ments for attendees. Join us for part of it or all of it. Please register 
 in advance and remember to bring your business cards!\n\nWhy Attend?\n\nGe
 t connected\, receive expert training\, meet new people\, and/or reconnect
  with those you have not seen in a while.\n\nWho Should Attend?\n\nThis ev
 ent is for nonprofit professionals and UNA business affiliate members. Mem
 bership with UNA is not required.\n\nWhat to Expect:\n4:00–4:30 PM: Arriva
 l and Registration\n4:30–5:30 PM: Collaboration Discussion Circles\n5:30–6
 :00 PM: Networking Reception\n\nCost:\n\nFREE for everyone
X-WR-RELCALID:f5a271b5540e2e0e15ae053581af2b87
X-WR-TIMEZONE:America/Denver
BEGIN:VTIMEZONE
TZID:America/Denver
BEGIN:STANDARD
TZNAME:MST
DTSTART:20251102T020000
TZOFFSETFROM:-0600
TZOFFSETTO:-0700
RDATE:20261101T020000
END:STANDARD
BEGIN:DAYLIGHT
TZNAME:MDT
DTSTART:20260308T020000
TZOFFSETFROM:-0700
TZOFFSETTO:-0600
RDATE:20270314T020000
END:DAYLIGHT
END:VTIMEZONE
BEGIN:VEVENT
UID:ef9ed30b-39b5-435e-86cd-8c5aa08dca72
DTSTAMP:20260422T023319Z
DESCRIPTION:Catch up with friends (and make new ones!) while building your 
 network\, learning about UNA\, and having meaningful discussions about top
 ics affecting the nonprofit sector.\n\nWe will be providing light refreshm
 ents for attendees. Join us for part of it or all of it. Please register i
 n advance and remember to bring your business cards!\n\nWhy Attend?\n\nGet
  connected\, receive expert training\, meet new people\, and/or reconnect 
 with those you have not seen in a while.\n\nWho Should Attend?\n\nThis eve
 nt is for nonprofit professionals and UNA business affiliate members. Memb
 ership with UNA is not required.\n\nWhat to Expect:\n4:00–4:30 PM: Arrival
  and Registration\n4:30–5:30 PM: Collaboration Discussion Circles\n5:30–6:
 00 PM: Networking Reception\n\nCost:\n\nFREE for everyone
DTSTART;TZID=America/Denver:20260312T160000
DTEND;TZID=America/Denver:20260312T180000
LOCATION:INDUSTRY SLC\, 650 S 500 W\, Salt Lake City\, UT 84101 US
SUMMARY:UNA - UNA Winter Nonprofit Reception
END:VEVENT
END:VCALENDAR
