BEGIN:VCALENDAR
VERSION:2.0
PRODID:-//caputah.org//NONSGML kigkonsult.se iCalcreator 2.30.10//
CALSCALE:GREGORIAN
METHOD:PUBLISH
UID:3c474588-98a1-403f-88d3-7006ecd34844
X-WR-CALDESC:Need help with the CCAP process? Have questions about renewal\
 , requirements\, or next steps? Join NCAP for virtual CCAP Office Hours—a 
 relaxed\, one-hour session where you set the agenda. This is not a formal 
 presentation. Just drop in\, bring your questions\, and get real-time answ
 ers from our team. Whether you’re starting your CCAP journey or planning f
 or renewal\, we’re here to help. No registration needed\, just click on th
 e link on the date/time you would like to join us.\n\n\n\nDates: January 1
 6\, February 13\, March 13\, April 10\, May 15\n\nDuration: 1 hour startin
 g at 1 PM ET / 12PM CT / 11 AM MT / 10 AM PT
X-WR-RELCALID:1985d63c8e717856fecabb169bfd3751
X-WR-TIMEZONE:America/Denver
BEGIN:VTIMEZONE
TZID:America/Denver
BEGIN:STANDARD
TZNAME:MST
DTSTART:20251102T020000
TZOFFSETFROM:-0600
TZOFFSETTO:-0700
RDATE:20261101T020000
END:STANDARD
BEGIN:DAYLIGHT
TZNAME:MDT
DTSTART:20260308T020000
TZOFFSETFROM:-0700
TZOFFSETTO:-0600
RDATE:20270314T020000
END:DAYLIGHT
END:VTIMEZONE
BEGIN:VEVENT
UID:29cbdb87-c574-4457-947d-1e3193d58b14
DTSTAMP:20260422T023414Z
DESCRIPTION:Need help with the CCAP process? Have questions about renewal\,
  requirements\, or next steps? Join NCAP for virtual CCAP Office Hours—a r
 elaxed\, one-hour session where you set the agenda. This is not a formal p
 resentation. Just drop in\, bring your questions\, and get real-time answe
 rs from our team. Whether you’re starting your CCAP journey or planning fo
 r renewal\, we’re here to help. No registration needed\, just click on the
  link on the date/time you would like to join us.\n\n\n\nDates: January 16
 \, February 13\, March 13\, April 10\, May 15\n\nDuration: 1 hour starting
  at 1 PM ET / 12PM CT / 11 AM MT / 10 AM PT
DTSTART;TZID=America/Denver:20260313T110000
DTEND;TZID=America/Denver:20260313T120000
LOCATION:https://communityactionpartnership.zoom.us/j/83427592736?pwd=xnVN4
 3YVH9Gf1RYSnCNmbbKnP7Kd6J.1#success
SUMMARY:NCAP - CCAP Office Hours: Your Questions Answered
END:VEVENT
END:VCALENDAR
