BEGIN:VCALENDAR
VERSION:2.0
PRODID:-//caputah.org//NONSGML kigkonsult.se iCalcreator 2.30.10//
CALSCALE:GREGORIAN
METHOD:PUBLISH
UID:ed0d4a6c-901e-47cc-bc0b-b4f7a875b783
X-WR-CALDESC:Registration is officially open for the NCAF 2026 Washington C
 onference & Fly-In Day\, taking place March 17–20\, 2026 in Washington\, D
 C. We look forward to gathering with the Community Action Network for time
 ly updates\, Hill engagement\, and opportunities to connect with peers fro
 m across the country. \n📍Location: Hyatt Regency Washington on Capitol Hil
 l\n400 New Jersey Ave NW\, Washington\, DC\n\nSteps from the U.S. Capitol 
 — ideal for Hill meetings and Fly-In activities. \nWe will be announcing o
 ur full lineup of speakers soon\, including Members of Congress\, Administ
 ration officials\, and national partners. \n
X-WR-RELCALID:dba66698776e3b3217994c72aa3ac83c
X-WR-TIMEZONE:America/Denver
BEGIN:VTIMEZONE
TZID:America/Denver
BEGIN:STANDARD
TZNAME:MST
DTSTART:20251102T020000
TZOFFSETFROM:-0600
TZOFFSETTO:-0700
RDATE:20261101T020000
END:STANDARD
BEGIN:DAYLIGHT
TZNAME:MDT
DTSTART:20260308T020000
TZOFFSETFROM:-0700
TZOFFSETTO:-0600
RDATE:20270314T020000
END:DAYLIGHT
END:VTIMEZONE
BEGIN:VEVENT
UID:e5a0a303-e939-44b2-bdc2-d629170861b5
DTSTAMP:20260422T023911Z
DESCRIPTION:Registration is officially open for the NCAF 2026 Washington Co
 nference & Fly-In Day\, taking place March 17–20\, 2026 in Washington\, DC
 . We look forward to gathering with the Community Action Network for timel
 y updates\, Hill engagement\, and opportunities to connect with peers from
  across the country. \n📍Location: Hyatt Regency Washington on Capitol Hill
 \n400 New Jersey Ave NW\, Washington\, DC\n\nSteps from the U.S. Capitol —
  ideal for Hill meetings and Fly-In activities. \nWe will be announcing ou
 r full lineup of speakers soon\, including Members of Congress\, Administr
 ation officials\, and national partners. \n
DTSTART;TZID=America/Denver:20260317T040000
DTEND;TZID=America/Denver:20260320T040001
LOCATION:The Hyatt Regency Washington on Capitol Hill\, 400 New Jersey Ave 
 NW\, Washington DC\, DC 20001 US
SUMMARY:NCAF - The 2026 NCAF Washington Conference  + Community Action Fly 
 In Day
END:VEVENT
END:VCALENDAR
