BEGIN:VCALENDAR
VERSION:2.0
PRODID:-//caputah.org//NONSGML kigkonsult.se iCalcreator 2.30.10//
CALSCALE:GREGORIAN
METHOD:PUBLISH
UID:c637e03c-a7ac-48e9-9871-b901d68c10d8
X-WR-CALDESC:Join NCAP for the 2026 New State Association Staff Orientation
 . \n\nThis conversational session is meant to orient State Association sta
 ff to their unique role within a State Association and the Community Actio
 n Network and provide new State Association team members with the opportun
 ity to connect with their peers from around the country. \n\nThis session 
 is offered as a member benefit to State Association team members with five
  years or less experience in their State Association role.
X-WR-RELCALID:7fe6ae214af8e92892a1cb24b9bb8c5f
X-WR-TIMEZONE:America/Denver
BEGIN:VTIMEZONE
TZID:America/Denver
BEGIN:STANDARD
TZNAME:MST
DTSTART:20251102T020000
TZOFFSETFROM:-0600
TZOFFSETTO:-0700
RDATE:20261101T020000
END:STANDARD
BEGIN:DAYLIGHT
TZNAME:MDT
DTSTART:20260308T020000
TZOFFSETFROM:-0700
TZOFFSETTO:-0600
RDATE:20270314T020000
END:DAYLIGHT
END:VTIMEZONE
BEGIN:VEVENT
UID:0afd0cc0-a7c2-49fe-93ab-1d924d0e5e10
DTSTAMP:20260422T023600Z
DESCRIPTION:Join NCAP for the 2026 New State Association Staff Orientation.
  \n\nThis conversational session is meant to orient State Association staf
 f to their unique role within a State Association and the Community Action
  Network and provide new State Association team members with the opportuni
 ty to connect with their peers from around the country. \n\nThis session i
 s offered as a member benefit to State Association team members with five 
 years or less experience in their State Association role.
DTSTART;TZID=America/Denver:20260324T120000
DTEND;TZID=America/Denver:20260324T130000
LOCATION:https://communityactionpartnership.zoom.us/meeting/register/jW0f2H
 95QSGd8aZJR26qmA#/registration
SUMMARY:NCAP - 2026 New State Association Staff Orientation
END:VEVENT
END:VCALENDAR
