BEGIN:VCALENDAR
VERSION:2.0
PRODID:-//caputah.org//NONSGML kigkonsult.se iCalcreator 2.30.10//
CALSCALE:GREGORIAN
METHOD:PUBLISH
UID:d2be6dc1-1b06-4832-be18-9c0e22f5b5d2
X-WR-CALDESC:Join NCAP to examine how Community Action Agencies can transfo
 rm Community Assessments from a requirement to a strategic leadership tool
 . Participants will explore how integrating qualitative and quantitative d
 ata with customer input can strengthen alignment of the Agency's mission\,
  strategic goals\, and outcomes.
X-WR-RELCALID:16a8ba9657f388cc7c806f03609f5269
X-WR-TIMEZONE:America/Denver
BEGIN:VTIMEZONE
TZID:America/Denver
BEGIN:STANDARD
TZNAME:MST
DTSTART:20251102T020000
TZOFFSETFROM:-0600
TZOFFSETTO:-0700
RDATE:20261101T020000
END:STANDARD
BEGIN:DAYLIGHT
TZNAME:MDT
DTSTART:20260308T020000
TZOFFSETFROM:-0700
TZOFFSETTO:-0600
RDATE:20270314T020000
END:DAYLIGHT
END:VTIMEZONE
BEGIN:VEVENT
UID:7c2803ff-a00d-495f-b9ff-1fb3ea4c8c41
DTSTAMP:20260422T023749Z
DESCRIPTION:Join NCAP to examine how Community Action Agencies can transfor
 m Community Assessments from a requirement to a strategic leadership tool.
  Participants will explore how integrating qualitative and quantitative da
 ta with customer input can strengthen alignment of the Agency's mission\, 
 strategic goals\, and outcomes.
DTSTART;TZID=America/Denver:20260325T120000
DTEND;TZID=America/Denver:20260325T130000
LOCATION:https://communityactionpartnership.zoom.us/meeting/register/xY745Y
 rJTO66O7syveuOzg#/registration
SUMMARY:NCAP - Aligning Community Assessments with Your Mission and Goals
END:VEVENT
END:VCALENDAR
