BEGIN:VCALENDAR
VERSION:2.0
PRODID:-//caputah.org//NONSGML kigkonsult.se iCalcreator 2.30.10//
CALSCALE:GREGORIAN
METHOD:PUBLISH
UID:0c00fbf8-1b86-468e-8dc1-0b84ec1307ef
X-WR-CALDESC:You know marketing is everything. Your audience is paying atte
 ntion - but are you delivering the right message? Don’t let your story go 
 untold or unheard. Join us to unlock the power of marketing and communicat
 e to drive change\, inspire action\, and achieve your vision.\n\nAre you..
 .\n\nStruggling to articulate your mission in a way that truly resonates?
 \nFinding it hard to stand out to funders\, donors\, or partners?\nUnsure 
 how to measure whether your message is working\, or how to improve it?\nOv
 erwhelmed by limited resources\, trying to juggle storytelling\, stakehold
 er engagement\, and data-driven marketing?\nIf you’re nodding along\, this
  is the course you’ve been waiting for! You’ll get the tools\, insights\, 
 and strategies to turn marketing from a source of stress into your organiz
 ation’s superpower. This course is designed to tackle your pain points hea
 d-on\, equipping you with the skills to:\n\nClarify Your Story to define a
  consistent\, compelling narrative that sets your organization apart.\nEng
 age Key Stakeholders and reach the right people with the right message at 
 the right time.\nMaximize Impact by learning to collect and interpret mark
 eting data to amplify what’s working and fix what’s not.\nDo More With Les
 s and optimize your communications strategies to make the most of limited 
 time and resources.\nYou’ll Get:\n\nTwo days of engaging\, practical\, and
  interactive online training.\nReference materials and resources to keep l
 earning and refresh your memory as needed.\nA one-on-one session with the 
 Subject Matter Expert to address your organization’s unique challenges.\nU
 pon completion\, your organization will earn the UNA Marketing and Communi
 cation Badge\, a mark of excellence to share with your network and show th
 e world you’re serious about making an impact.\n\nProgramming\nThe Nonprof
 it Credential in Marketing and Communication includes two days of online t
 raining\, a 1:1 consultation with your team and Justin Anderson\, and ongo
 ing coaching and support. Successful completion of the course and its deli
 verables will earn your organization the UNA Badge in Marketing and Commun
 ication. Learn more about what's required to earn the Badge. \n\nWho Shoul
 d Attend\nThe Credential is intended for 501(c) nonprofit leaders and staf
 f\, including but not limited to\, executive directors\, senior management
  staff\, program directors and managers\, development directors and manage
 rs\, human resource professionals\, accounting and finance professionals\,
  and other key team members at nonprofit organizations. Volunteers and boa
 rd members are also welcome to participate so they can help implement best
  practices and new strategies at their organizations. Individual nonprofit
  professionals can participate to further develop their knowledge and skil
 ls\, however\, the real benefit of the Credential lies in the practical ap
 plication of course material to participants' organizations. This way\, th
 e Credential not only educates\, but also drives real change within organi
 zations.\n\nNote: The Nonprofit Credential program is for 501(c) organizat
 ions only. \n\nCost\nUNA Members: $200 for the first person/$40 for each a
 dditional participant\nNot-Yet Members: $400 for the first person/$80 for 
 each additional participant\n\nCourse Dates\nOnline Training Sessions\nDay
  1: March 25\, 2026 | 9:30 AM to 3:30 PM\nDay 2: March 26\, 2026 | 9:30 AM
  to 3:30 PM\n\nOrganizational Consultation\n40-minute consult on Wednesday
 \, May 6\, 2026 or Thursday\, May 7\, 2026
X-WR-RELCALID:522c6c10fc784d914f4cd9f7425dcd92
X-WR-TIMEZONE:America/Denver
BEGIN:VTIMEZONE
TZID:America/Denver
BEGIN:STANDARD
TZNAME:MST
DTSTART:20251102T020000
TZOFFSETFROM:-0600
TZOFFSETTO:-0700
RDATE:20261101T020000
END:STANDARD
BEGIN:DAYLIGHT
TZNAME:MDT
DTSTART:20260308T020000
TZOFFSETFROM:-0700
TZOFFSETTO:-0600
RDATE:20270314T020000
END:DAYLIGHT
END:VTIMEZONE
BEGIN:VEVENT
UID:c997de07-2cf7-4cf2-aad8-56c04a119c5b
DTSTAMP:20260422T041232Z
DESCRIPTION:You know marketing is everything. Your audience is paying atten
 tion - but are you delivering the right message? Don’t let your story go u
 ntold or unheard. Join us to unlock the power of marketing and communicate
  to drive change\, inspire action\, and achieve your vision.\n\nAre you...
 \n\nStruggling to articulate your mission in a way that truly resonates?\n
 Finding it hard to stand out to funders\, donors\, or partners?\nUnsure ho
 w to measure whether your message is working\, or how to improve it?\nOver
 whelmed by limited resources\, trying to juggle storytelling\, stakeholder
  engagement\, and data-driven marketing?\nIf you’re nodding along\, this i
 s the course you’ve been waiting for! You’ll get the tools\, insights\, an
 d strategies to turn marketing from a source of stress into your organizat
 ion’s superpower. This course is designed to tackle your pain points head-
 on\, equipping you with the skills to:\n\nClarify Your Story to define a c
 onsistent\, compelling narrative that sets your organization apart.\nEngag
 e Key Stakeholders and reach the right people with the right message at th
 e right time.\nMaximize Impact by learning to collect and interpret market
 ing data to amplify what’s working and fix what’s not.\nDo More With Less 
 and optimize your communications strategies to make the most of limited ti
 me and resources.\nYou’ll Get:\n\nTwo days of engaging\, practical\, and i
 nteractive online training.\nReference materials and resources to keep lea
 rning and refresh your memory as needed.\nA one-on-one session with the Su
 bject Matter Expert to address your organization’s unique challenges.\nUpo
 n completion\, your organization will earn the UNA Marketing and Communica
 tion Badge\, a mark of excellence to share with your network and show the 
 world you’re serious about making an impact.\n\nProgramming\nThe Nonprofit
  Credential in Marketing and Communication includes two days of online tra
 ining\, a 1:1 consultation with your team and Justin Anderson\, and ongoin
 g coaching and support. Successful completion of the course and its delive
 rables will earn your organization the UNA Badge in Marketing and Communic
 ation. Learn more about what's required to earn the Badge. \n\nWho Should 
 Attend\nThe Credential is intended for 501(c) nonprofit leaders and staff\
 , including but not limited to\, executive directors\, senior management s
 taff\, program directors and managers\, development directors and managers
 \, human resource professionals\, accounting and finance professionals\, a
 nd other key team members at nonprofit organizations. Volunteers and board
  members are also welcome to participate so they can help implement best p
 ractices and new strategies at their organizations. Individual nonprofit p
 rofessionals can participate to further develop their knowledge and skills
 \, however\, the real benefit of the Credential lies in the practical appl
 ication of course material to participants' organizations. This way\, the 
 Credential not only educates\, but also drives real change within organiza
 tions.\n\nNote: The Nonprofit Credential program is for 501(c) organizatio
 ns only. \n\nCost\nUNA Members: $200 for the first person/$40 for each add
 itional participant\nNot-Yet Members: $400 for the first person/$80 for ea
 ch additional participant\n\nCourse Dates\nOnline Training Sessions\nDay 1
 : March 25\, 2026 | 9:30 AM to 3:30 PM\nDay 2: March 26\, 2026 | 9:30 AM t
 o 3:30 PM\n\nOrganizational Consultation\n40-minute consult on Wednesday\,
  May 6\, 2026 or Thursday\, May 7\, 2026
DTSTART;TZID=America/Denver:20260325T040000
DTEND;TZID=America/Denver:20260326T040001
LOCATION:https://members.utahnonprofits.org/ap/Events/Register/BDFDKOASaCKC
 0
SUMMARY:UNA - 2026 Nonprofit Credential in Marketing and Communication
END:VEVENT
END:VCALENDAR
