BEGIN:VCALENDAR
VERSION:2.0
PRODID:-//caputah.org//NONSGML kigkonsult.se iCalcreator 2.30.10//
CALSCALE:GREGORIAN
METHOD:PUBLISH
UID:1eff3ca2-04fd-4714-b57a-a7cf19905b54
X-WR-CALDESC:May is Community Action Month and NCAP’s toolkit has everythin
 g you need to celebrate\, including sample graphics and social media messa
 ges\, activities and events\, outreach resources\, customizable templates\
 , and more. Join us as we walk through the contents of this year’s toolkit
  and how to use it.
X-WR-RELCALID:7572990f25f9f0378afe5b39077ede07
X-WR-TIMEZONE:America/Denver
BEGIN:VTIMEZONE
TZID:America/Denver
BEGIN:STANDARD
TZNAME:MST
DTSTART:20251102T020000
TZOFFSETFROM:-0600
TZOFFSETTO:-0700
RDATE:20261101T020000
END:STANDARD
BEGIN:DAYLIGHT
TZNAME:MDT
DTSTART:20260308T020000
TZOFFSETFROM:-0700
TZOFFSETTO:-0600
RDATE:20270314T020000
END:DAYLIGHT
END:VTIMEZONE
BEGIN:VEVENT
UID:b0d2723c-e7f9-44b6-beb0-83634e90f4ac
DTSTAMP:20260422T023259Z
DESCRIPTION:May is Community Action Month and NCAP’s toolkit has everything
  you need to celebrate\, including sample graphics and social media messag
 es\, activities and events\, outreach resources\, customizable templates\,
  and more. Join us as we walk through the contents of this year’s toolkit 
 and how to use it.
DTSTART;TZID=America/Denver:20260326T140000
DTEND;TZID=America/Denver:20260326T150000
LOCATION:https://communityactionpartnership.zoom.us/webinar/register/WN___T
 OZQlkR-intzWRrUs46A#/registration
SUMMARY:NCAP - Community Action Month Toolkit Overview
END:VEVENT
END:VCALENDAR
