BEGIN:VCALENDAR
VERSION:2.0
PRODID:-//caputah.org//NONSGML kigkonsult.se iCalcreator 2.30.10//
CALSCALE:GREGORIAN
METHOD:PUBLISH
UID:0bf05de1-ffbd-4c2a-8307-604000c127af
X-WR-CALDESC:Building\, Supporting\, and Sustaining a High-Impact Weatheriz
 ation Workforce is a four-part webinar series designed to help Weatherizat
 ion leaders and staff strengthen their workforce from the inside out. The 
 series explores how to build high-performing teams\, foster supportive wor
 kplace cultures that improve retention\, implement innovative recruitment 
 strategies to expand the talent pipeline\, and develop leadership and care
 er pathways that ensure long-term continuity and program success. Grounded
  in real-world experience and tailored to the realities of the Weatherizat
 ion network\, this series offers practical strategies\, tools\, and insigh
 ts agencies can apply immediately to strengthen workforce stability\, resi
 lience\, and impact. \n\nSession 1: Building a High-Performance WAP Team. 
 \nThursday\, March 26\, 2026  \nThis session focuses on the foundational e
 lements of a high-performing Weatherization Assistance Program (WAP) team.
 \n\nSession 2: Retention through support and culture\; Well-being\, mentor
 ship\, and burnout prevention. \nWednesday\, April 1\, 2026 \nRetention is
  more than compensation—it is about culture\, care\, and connection. This 
 session examines strategies agencies can use to retain skilled staff by fo
 stering supportive work environments that prioritize employee well-being\,
  mentorship\, and professional growth. \n\nSession 3: Innovative strategie
 s for recruitment by reaching youth and beyond. \nThursday\, April 23\, 20
 26 \nThis session highlights innovative and comprehensive recruitment stra
 tegies designed to expand the Weatherization workforce pipeline.\n\nSessio
 n 4: Sustaining the Workforce with leadership\, growth\, and continuity st
 rategies. \nWednesday\, April 29\, 2026 \nRecruitment is only the beginnin
 g. This session builds on the strategies discussed in Session 3 by focusin
 g on how agencies can sustain and strengthen their Weatherization workforc
 e over time.\nDate & Time\nTime shows in \nMountain Time (US and Canada)\n
 \nYou can choose to attend one or more of the following webinars.\nPress T
 ab for more information\n\nMar 26\, 2026 12:00 PM\n\nApr 1\, 2026 12:00 PM
 \n\nApr 23\, 2026 12:00 PM\n\nApr 29\, 2026 12:00 PM
X-WR-RELCALID:09f059c96583848e80f86e0ca124147d
X-WR-TIMEZONE:America/Denver
BEGIN:VTIMEZONE
TZID:America/Denver
BEGIN:STANDARD
TZNAME:MST
DTSTART:20251102T020000
TZOFFSETFROM:-0600
TZOFFSETTO:-0700
RDATE:20261101T020000
END:STANDARD
BEGIN:DAYLIGHT
TZNAME:MDT
DTSTART:20260308T020000
TZOFFSETFROM:-0700
TZOFFSETTO:-0600
RDATE:20270314T020000
END:DAYLIGHT
END:VTIMEZONE
BEGIN:VEVENT
UID:6c38fbec-9b15-4aad-b966-a263fa17f3af
DTSTAMP:20260422T023515Z
DESCRIPTION:Building\, Supporting\, and Sustaining a High-Impact Weatheriza
 tion Workforce is a four-part webinar series designed to help Weatherizati
 on leaders and staff strengthen their workforce from the inside out. The s
 eries explores how to build high-performing teams\, foster supportive work
 place cultures that improve retention\, implement innovative recruitment s
 trategies to expand the talent pipeline\, and develop leadership and caree
 r pathways that ensure long-term continuity and program success. Grounded 
 in real-world experience and tailored to the realities of the Weatherizati
 on network\, this series offers practical strategies\, tools\, and insight
 s agencies can apply immediately to strengthen workforce stability\, resil
 ience\, and impact. \n\nSession 1: Building a High-Performance WAP Team. 
 \nThursday\, March 26\, 2026  \nThis session focuses on the foundational e
 lements of a high-performing Weatherization Assistance Program (WAP) team.
 \n\nSession 2: Retention through support and culture\; Well-being\, mentor
 ship\, and burnout prevention. \nWednesday\, April 1\, 2026 \nRetention is
  more than compensation—it is about culture\, care\, and connection. This 
 session examines strategies agencies can use to retain skilled staff by fo
 stering supportive work environments that prioritize employee well-being\,
  mentorship\, and professional growth. \n\nSession 3: Innovative strategie
 s for recruitment by reaching youth and beyond. \nThursday\, April 23\, 20
 26 \nThis session highlights innovative and comprehensive recruitment stra
 tegies designed to expand the Weatherization workforce pipeline.\n\nSessio
 n 4: Sustaining the Workforce with leadership\, growth\, and continuity st
 rategies. \nWednesday\, April 29\, 2026 \nRecruitment is only the beginnin
 g. This session builds on the strategies discussed in Session 3 by focusin
 g on how agencies can sustain and strengthen their Weatherization workforc
 e over time.\nDate & Time\nTime shows in \nMountain Time (US and Canada)\n
 \nYou can choose to attend one or more of the following webinars.\nPress T
 ab for more information\n\nMar 26\, 2026 12:00 PM\n\nApr 1\, 2026 12:00 PM
 \n\nApr 23\, 2026 12:00 PM\n\nApr 29\, 2026 12:00 PM
DTSTART;TZID=America/Denver:20260326T120000
DTEND;TZID=America/Denver:20260326T130000
LOCATION:https://communityactionpartnership.zoom.us/webinar/register/WN_YfA
 8arCNSIyWL7HakZKF5A#/registration
SUMMARY:NCAP - Weatherization Workforce Excellence Series: Building\, Suppo
 rting\, and Sustaining a High-Impact Weatherization Workforce - Session 1:
  Building a High-Performance WAP Team
END:VEVENT
END:VCALENDAR
