BEGIN:VCALENDAR
VERSION:2.0
PRODID:-//caputah.org//NONSGML kigkonsult.se iCalcreator 2.30.10//
CALSCALE:GREGORIAN
METHOD:PUBLISH
UID:c3f039eb-bb63-401b-993e-0f0d0fde124f
X-WR-CALDESC:Protect Your Mission and Meet AI Risk Head On\n\nArtificial In
 telligence is transforming the risk landscape of the nonprofit sector. Joi
 n NRMC at “Only Human” to separate hair-raising hype from promising possib
 ilities. Designed by and for nonprofit leaders\, this one-day virtual conf
 erence provides practical\, tangible ideas to protect your mission while e
 mbracing innovation. Join us to explore an array of timely topics in a fas
 t-paced virtual format taught by nonprofit and business sector practitione
 rs. Register today to ensure that your nonprofit is ready for what’s next—
 without compromising your values.\n\nWHEN: Live on April 7\, 2026 with a r
 ecorded Conference Encore on April 15\, 2026\n\nWHERE: Online\n\nWHAT: 1-d
 ay Virtual Conference with sessions led by nonprofit and business sector A
 I thought leaders. Event sessions explore legal considerations\, legislati
 ve and regulatory developments\, turning AI skepticism and fear into skill
 s-building opportunities\, creating a flexible AI policy\, and how to keep
  humanity and risk-awareness at the root of AI implementation.\n\nNote: If
  you would like to register more than 5 attendees\, please contact Whitney
  (whitney@nonprofitrisk.org).\n\nTicket Pricing\nGeneral Admission	$189\nAf
 filiate Member Admission	$39
X-WR-RELCALID:0d756a9f29bdfb6921c11e5f9ee8b8f4
X-WR-TIMEZONE:America/Denver
BEGIN:VTIMEZONE
TZID:America/Denver
BEGIN:STANDARD
TZNAME:MST
DTSTART:20251102T020000
TZOFFSETFROM:-0600
TZOFFSETTO:-0700
RDATE:20261101T020000
END:STANDARD
BEGIN:DAYLIGHT
TZNAME:MDT
DTSTART:20260308T020000
TZOFFSETFROM:-0700
TZOFFSETTO:-0600
RDATE:20270314T020000
END:DAYLIGHT
END:VTIMEZONE
BEGIN:VEVENT
UID:e6cc79b5-5b69-4e21-835f-4799ce1f32f8
DTSTAMP:20260422T023635Z
DESCRIPTION:Protect Your Mission and Meet AI Risk Head On\n\nArtificial Int
 elligence is transforming the risk landscape of the nonprofit sector. Join
  NRMC at “Only Human” to separate hair-raising hype from promising possibi
 lities. Designed by and for nonprofit leaders\, this one-day virtual confe
 rence provides practical\, tangible ideas to protect your mission while em
 bracing innovation. Join us to explore an array of timely topics in a fast
 -paced virtual format taught by nonprofit and business sector practitioner
 s. Register today to ensure that your nonprofit is ready for what’s next—w
 ithout compromising your values.\n\nWHEN: Live on April 7\, 2026 with a re
 corded Conference Encore on April 15\, 2026\n\nWHERE: Online\n\nWHAT: 1-da
 y Virtual Conference with sessions led by nonprofit and business sector AI
  thought leaders. Event sessions explore legal considerations\, legislativ
 e and regulatory developments\, turning AI skepticism and fear into skills
 -building opportunities\, creating a flexible AI policy\, and how to keep 
 humanity and risk-awareness at the root of AI implementation.\n\nNote: If 
 you would like to register more than 5 attendees\, please contact Whitney 
 (whitney@nonprofitrisk.org).\n\nTicket Pricing\nGeneral Admission	$189\nAff
 iliate Member Admission	$39
DTSTART;TZID=America/Denver:20260407T040000
DTEND;TZID=America/Denver:20260407T040001
LOCATION:https://nonprofitrisk.org/events/only-human/only-human-registratio
 n/?utm_source=eNews&utm_medium=email
SUMMARY:NRMC - Only Human - Protect Your Mission and Meet AI Risk Head On
END:VEVENT
END:VCALENDAR
