BEGIN:VCALENDAR
VERSION:2.0
PRODID:-//caputah.org//NONSGML kigkonsult.se iCalcreator 2.30.10//
CALSCALE:GREGORIAN
METHOD:PUBLISH
UID:bdf75158-1143-4397-a866-a87d13cdca96
X-WR-CALDESC:\nA Two-Part Webinar Series\n\nAdvancing economic mobility req
 uires Community Action leaders to implement innovative solutions to addres
 s complex challenges. This two-part webinar series explores practical stra
 tegies for transforming innovative ideas into measurable community impact.
  Participants will gain insight and advice from peers in the Community Act
 ion network\, along with tools and resources to foster innovation\, align 
 resources\, build capacity to adapt and scale approaches over time. Part 1
  of the series will focus on establishing a shared culture of innovation\,
  leveraging resources\, and developing collaborative partnerships that sup
 port innovation across sectors. Part 2 of the series will focus on intenti
 onally designing\, implementing\, and evaluating innovative initiatives fo
 r long-term sustainability. \n\nPart 1: April 15th\, 2025\nPart 2: May 20t
 h\, 2025
X-WR-RELCALID:fa3ac66ad388873399237ce1baacb9d4
X-WR-TIMEZONE:America/Denver
BEGIN:VTIMEZONE
TZID:America/Denver
BEGIN:STANDARD
TZNAME:MST
DTSTART:20251102T020000
TZOFFSETFROM:-0600
TZOFFSETTO:-0700
RDATE:20261101T020000
END:STANDARD
BEGIN:DAYLIGHT
TZNAME:MDT
DTSTART:20260308T020000
TZOFFSETFROM:-0700
TZOFFSETTO:-0600
RDATE:20270314T020000
END:DAYLIGHT
END:VTIMEZONE
BEGIN:VEVENT
UID:b27586d3-1b7a-474d-bfac-d8a2a8b48171
DTSTAMP:20260422T023635Z
DESCRIPTION:\nA Two-Part Webinar Series\n\nAdvancing economic mobility requ
 ires Community Action leaders to implement innovative solutions to address
  complex challenges. This two-part webinar series explores practical strat
 egies for transforming innovative ideas into measurable community impact. 
 Participants will gain insight and advice from peers in the Community Acti
 on network\, along with tools and resources to foster innovation\, align r
 esources\, build capacity to adapt and scale approaches over time. Part 1 
 of the series will focus on establishing a shared culture of innovation\, 
 leveraging resources\, and developing collaborative partnerships that supp
 ort innovation across sectors. Part 2 of the series will focus on intentio
 nally designing\, implementing\, and evaluating innovative initiatives for
  long-term sustainability. \n\nPart 1: April 15th\, 2025\nPart 2: May 20th
 \, 2025
DTSTART;TZID=America/Denver:20260415T120000
DTEND;TZID=America/Denver:20260415T130000
LOCATION:https://communityactionpartnership.zoom.us/webinar/register/WN_pzw
 ktDHoShaMqze2lrJ2yw#/registration
SUMMARY:NCAP - Turning Ideas into Impact: Implementing Innovative Approache
 s to Advance Economic Mobility - Part 1
END:VEVENT
END:VCALENDAR
