BEGIN:VCALENDAR
VERSION:2.0
PRODID:-//caputah.org//NONSGML kigkonsult.se iCalcreator 2.30.10//
CALSCALE:GREGORIAN
METHOD:PUBLISH
UID:532538ed-caba-477e-8e27-e978e68ebf2b
X-WR-CALDESC:Join NCAP for a continuation of the Roundtable series for curr
 ent Community Action Executive Directors and CEOs. The Roundtables are des
 igned to provide space for an engaging session where EDs and CEOs will hav
 e the opportunity to participate in confidential small group discussions w
 ith peers.\n\nThese Roundtables are an opportunity to discuss emerging iss
 ues\, get updates on available tools and resources\, and learn effective s
 trategies from your peers. EDs and CEOs may sign up for one or more roundt
 able sessions.
X-WR-RELCALID:2f6e4c509c9103d49e3fd725f8e8025d
X-WR-TIMEZONE:America/Denver
BEGIN:VTIMEZONE
TZID:America/Denver
BEGIN:STANDARD
TZNAME:MST
DTSTART:20251102T020000
TZOFFSETFROM:-0600
TZOFFSETTO:-0700
RDATE:20261101T020000
END:STANDARD
BEGIN:DAYLIGHT
TZNAME:MDT
DTSTART:20260308T020000
TZOFFSETFROM:-0700
TZOFFSETTO:-0600
RDATE:20270314T020000
END:DAYLIGHT
END:VTIMEZONE
BEGIN:VEVENT
UID:a95e72e7-aecf-4b2a-9161-2a3cc2bbf0c5
DTSTAMP:20260422T023648Z
DESCRIPTION:Join NCAP for a continuation of the Roundtable series for curre
 nt Community Action Executive Directors and CEOs. The Roundtables are desi
 gned to provide space for an engaging session where EDs and CEOs will have
  the opportunity to participate in confidential small group discussions wi
 th peers.\n\nThese Roundtables are an opportunity to discuss emerging issu
 es\, get updates on available tools and resources\, and learn effective st
 rategies from your peers. EDs and CEOs may sign up for one or more roundta
 ble sessions.
DTSTART;TZID=America/Denver:20260416T140000
DTEND;TZID=America/Denver:20260416T150000
LOCATION:https://communityactionpartnership.com/event/ed-ceo-roundtables-re
 sponding-to-the-shifting-landscape-4-16-26/
SUMMARY:NCAP - ED/CEO Roundtables – Responding to the Shifting Landscape
END:VEVENT
END:VCALENDAR
