BEGIN:VCALENDAR
VERSION:2.0
PRODID:-//caputah.org//NONSGML kigkonsult.se iCalcreator 2.30.10//
CALSCALE:GREGORIAN
METHOD:PUBLISH
UID:cb8d0dab-61e0-4f0d-a94b-1f19a60d431f
X-WR-CALDESC:Your volunteers are the engine that helps to move your mission
  forward\, but even the best engine needs the right parts to run smoothly.
  Think of your program like a well-oiled machine—if the foundation isn’t s
 trong\, the whole thing can stall.\n\nThe Nonprofit Credential in Voluntee
 r Management gives you the tools to build that solid foundation\, ensuring
  your volunteers are running at full power and making a real impact. You’v
 e got the vision\, and this will help everything click into place.\n\nWhat
 ’s included:\n\nInteractive Training to get a solid foundation in voluntee
 r recruitment\, retention\, Ethics Codes\, and DEI-driven practices.\nSave
  time with ready-to-use resources\, tools\, and templates—no need to start
  from scratch.\nPersonalized consultation and coaching ensure your volunte
 er program reaches its full potential. You don't have to go it alone.\nLea
 rn the skills you need to celebrate your volunteers\, strengthen their bon
 d with your mission\, and lead your volunteer team with confidence.\n\nUpo
 n completion\, your organization will earn the UNA Volunteer Management Ba
 dge\, a mark of excellence to share with your network and show the world y
 ou’re serious about making an impact.\n\nNote: The Nonprofit Credential pr
 ogram is for 501(c) organizations only. \n\nLearn more about the course.\n
 \nCost\nUNA Members: $200 for the first person/$40 for each additional par
 ticipant\nNot-Yet Members: $400 for the first person/$80 for each addition
 al participant\n\nCourse Dates\nOnline Training Sessions\nDay 1: Wednesday
 \, April 22\, 2026 | 9:30 AM to 3:30 PM\nDay 2: Thursday\, April 23\, 2026
  | 9:30 AM to 3:30 PM\n\nOrganizational Consultation\n40-minute consult on
  Wednesday May 27\, 2026 or Thursday May 28\, 2026
X-WR-RELCALID:ca4295959c74219597ec60cb93b385c7
X-WR-TIMEZONE:America/Denver
BEGIN:VTIMEZONE
TZID:America/Denver
BEGIN:STANDARD
TZNAME:MST
DTSTART:20251102T020000
TZOFFSETFROM:-0600
TZOFFSETTO:-0700
RDATE:20261101T020000
END:STANDARD
BEGIN:DAYLIGHT
TZNAME:MDT
DTSTART:20260308T020000
TZOFFSETFROM:-0700
TZOFFSETTO:-0600
RDATE:20270314T020000
END:DAYLIGHT
END:VTIMEZONE
BEGIN:VEVENT
UID:4bcb847a-5ec0-41d6-bc17-83f45619fbdd
DTSTAMP:20260422T010554Z
DESCRIPTION:Your volunteers are the engine that helps to move your mission 
 forward\, but even the best engine needs the right parts to run smoothly. 
 Think of your program like a well-oiled machine—if the foundation isn’t st
 rong\, the whole thing can stall.\n\nThe Nonprofit Credential in Volunteer
  Management gives you the tools to build that solid foundation\, ensuring 
 your volunteers are running at full power and making a real impact. You’ve
  got the vision\, and this will help everything click into place.\n\nWhat’
 s included:\n\nInteractive Training to get a solid foundation in volunteer
  recruitment\, retention\, Ethics Codes\, and DEI-driven practices.\nSave 
 time with ready-to-use resources\, tools\, and templates—no need to start 
 from scratch.\nPersonalized consultation and coaching ensure your voluntee
 r program reaches its full potential. You don't have to go it alone.\nLear
 n the skills you need to celebrate your volunteers\, strengthen their bond
  with your mission\, and lead your volunteer team with confidence.\n\nUpon
  completion\, your organization will earn the UNA Volunteer Management Bad
 ge\, a mark of excellence to share with your network and show the world yo
 u’re serious about making an impact.\n\nNote: The Nonprofit Credential pro
 gram is for 501(c) organizations only. \n\nLearn more about the course.\n
 \nCost\nUNA Members: $200 for the first person/$40 for each additional par
 ticipant\nNot-Yet Members: $400 for the first person/$80 for each addition
 al participant\n\nCourse Dates\nOnline Training Sessions\nDay 1: Wednesday
 \, April 22\, 2026 | 9:30 AM to 3:30 PM\nDay 2: Thursday\, April 23\, 2026
  | 9:30 AM to 3:30 PM\n\nOrganizational Consultation\n40-minute consult on
  Wednesday May 27\, 2026 or Thursday May 28\, 2026
DTSTART;TZID=America/Denver:20260422T040000
DTEND;TZID=America/Denver:20260423T040001
LOCATION:https://members.utahnonprofits.org/ap/Events/Register/wZFNQmaseCxC
 w
SUMMARY:UNA - 2026 Nonprofit Credential in Volunteer Management
END:VEVENT
END:VCALENDAR
