BEGIN:VCALENDAR
VERSION:2.0
PRODID:-//caputah.org//NONSGML kigkonsult.se iCalcreator 2.30.10//
CALSCALE:GREGORIAN
METHOD:PUBLISH
UID:c69abbe5-2793-4209-9305-4796762a7306
X-WR-CALDESC:This is your opportunity to get up close and personal with the
  CCAP Program’s INDEPENDENT WRITING ASSIGNMENT EXAMINATION PROCESS. The In
 dependent Writing Assignment\, or “IWA”\, is one of the two examination pr
 ocesses CCAP Candidates must pass to earn the Certified Community Action P
 rofessional credential. Participants will learn who is eligible to partici
 pate in the IWA\, the purpose of the assignment\, how the assignment is st
 ructured\, assignment due dates and submission methods\, and more.\n\nThis
  will be a “don’t miss event” for all current CCAP Candidates. There is no
  charge to attend but you have to register at NCAP’s MEMBER PORTAL.
X-WR-RELCALID:19cc0cc3bcdfdbeb958f7b725760956d
X-WR-TIMEZONE:America/Denver
BEGIN:VTIMEZONE
TZID:America/Denver
BEGIN:STANDARD
TZNAME:MST
DTSTART:20251102T020000
TZOFFSETFROM:-0600
TZOFFSETTO:-0700
RDATE:20261101T020000
END:STANDARD
BEGIN:DAYLIGHT
TZNAME:MDT
DTSTART:20260308T020000
TZOFFSETFROM:-0700
TZOFFSETTO:-0600
RDATE:20270314T020000
END:DAYLIGHT
END:VTIMEZONE
BEGIN:VEVENT
UID:323b2dba-e1ca-433b-9b70-3930d128002a
DTSTAMP:20260422T023318Z
DESCRIPTION:This is your opportunity to get up close and personal with the 
 CCAP Program’s INDEPENDENT WRITING ASSIGNMENT EXAMINATION PROCESS. The Ind
 ependent Writing Assignment\, or “IWA”\, is one of the two examination pro
 cesses CCAP Candidates must pass to earn the Certified Community Action Pr
 ofessional credential. Participants will learn who is eligible to particip
 ate in the IWA\, the purpose of the assignment\, how the assignment is str
 uctured\, assignment due dates and submission methods\, and more.\n\nThis 
 will be a “don’t miss event” for all current CCAP Candidates. There is no 
 charge to attend but you have to register at NCAP’s MEMBER PORTAL.
DTSTART;TZID=America/Denver:20260430T110000
DTEND;TZID=America/Denver:20260430T120000
LOCATION:https://ncap.users.membersuite.com/home
SUMMARY:NCAP - CCAP: Tips for Success with the Independent Writing Assignme
 nt
END:VEVENT
END:VCALENDAR
