BEGIN:VCALENDAR
VERSION:2.0
PRODID:-//caputah.org//NONSGML kigkonsult.se iCalcreator 2.30.10//
CALSCALE:GREGORIAN
METHOD:PUBLISH
UID:c1cea091-b135-4724-8b93-d0aaec05ef9f
X-WR-CALDESC:The Spring 2026 Pathways to Excellence Implementer Training wi
 ll provide participants with a deeper understanding of the 2025 Standards 
 of Excellence and how to use the Standards to drive organizational learnin
 g and performance management.  \n\nTakeaways will include deeper understan
 ding of core excellence concepts and how to apply those concepts to organi
 zational process management\, performance improvement\, and mission-driven
  customer engagement.  \n\nRegistrants will learn about the Standards of E
 xcellence\, tools for conducting internal agency assessments\, and methods
  for conducting a comprehensive Standards-based self-study through the Pat
 hways to Excellence eCourse\, which is open to all registrants\, and discu
 ssed in-depth during the session.  \n\nIn addition to learning how to lead
  the self-study\, participants will learn ways to improve and systematize 
 organizational assessment\, planning\, and performance processes and to se
 rve as a peer leader for agencies engaged in an ongoing excellence journey
  within the Pathways to Excellence program. \n\nRegistration for this trai
 ning includes access to the Pathways to Excellence eCourse\, 1/2-day of in
 teractive virtual training\, and a collection of tools and resources. \n\n
 Note: Agencies currently enrolled in the Pathways to Excellence Silver Tie
 r receive one complimentary registration. Excellence Team leaders have rec
 eived a discount code via email. \n\n\nThursday\, May 7\, 2026 \n\n1 pm – 
 4:30 pm ET / 12 pm – 3:30 pm CT / 11 am – 2:30 pm MT / 10 am – 1:30 pm PT
X-WR-RELCALID:b12de38e84bc092a51ac9d68460b76d4
X-WR-TIMEZONE:America/Denver
BEGIN:VTIMEZONE
TZID:America/Denver
BEGIN:STANDARD
TZNAME:MST
DTSTART:20251102T020000
TZOFFSETFROM:-0600
TZOFFSETTO:-0700
RDATE:20261101T020000
END:STANDARD
BEGIN:DAYLIGHT
TZNAME:MDT
DTSTART:20260308T020000
TZOFFSETFROM:-0700
TZOFFSETTO:-0600
RDATE:20270314T020000
END:DAYLIGHT
END:VTIMEZONE
BEGIN:VEVENT
UID:ba383b26-f846-4bc8-80ed-7da3b092711b
DTSTAMP:20260422T023244Z
DESCRIPTION:The Spring 2026 Pathways to Excellence Implementer Training wil
 l provide participants with a deeper understanding of the 2025 Standards o
 f Excellence and how to use the Standards to drive organizational learning
  and performance management.  \n\nTakeaways will include deeper understand
 ing of core excellence concepts and how to apply those concepts to organiz
 ational process management\, performance improvement\, and mission-driven 
 customer engagement.  \n\nRegistrants will learn about the Standards of Ex
 cellence\, tools for conducting internal agency assessments\, and methods 
 for conducting a comprehensive Standards-based self-study through the Path
 ways to Excellence eCourse\, which is open to all registrants\, and discus
 sed in-depth during the session.  \n\nIn addition to learning how to lead 
 the self-study\, participants will learn ways to improve and systematize o
 rganizational assessment\, planning\, and performance processes and to ser
 ve as a peer leader for agencies engaged in an ongoing excellence journey 
 within the Pathways to Excellence program. \n\nRegistration for this train
 ing includes access to the Pathways to Excellence eCourse\, 1/2-day of int
 eractive virtual training\, and a collection of tools and resources. \n\nN
 ote: Agencies currently enrolled in the Pathways to Excellence Silver Tier
  receive one complimentary registration. Excellence Team leaders have rece
 ived a discount code via email. \n\n\nThursday\, May 7\, 2026 \n\n1 pm – 4
 :30 pm ET / 12 pm – 3:30 pm CT / 11 am – 2:30 pm MT / 10 am – 1:30 pm PT
DTSTART;TZID=America/Denver:20260507T110000
DTEND;TZID=America/Denver:20260507T143000
LOCATION:https://ncap.users.membersuite.com/events/9a6db3bd-0078-c406-a8f9-
 0b49417be8ef/details
SUMMARY:NCAP - 2026 Spring Pathways Implementer Training
END:VEVENT
END:VCALENDAR
