BEGIN:VCALENDAR
VERSION:2.0
PRODID:-//caputah.org//NONSGML kigkonsult.se iCalcreator 2.30.10//
CALSCALE:GREGORIAN
METHOD:PUBLISH
UID:4b68241b-9457-411c-9571-7084a4bd4fc2
X-WR-CALDESC:SAVE THE DATE for one of the best legal and guidance conferenc
 e you will attend! Topics include Governance\, Human Resources\, Finance\,
  Programming and other specialized topics.\n\nWHO SHOULD ATTEND? If you ar
 e a human services executive director\, senior staff\, on-the-ground leade
 rs or board members this is for you! Anyone working with federal grants\, 
 attorneys\, financial consultants and local\, state officials are also wel
 comed to attend. \n\nRegistration opens in February - Learn more here!\n\n
 This conference brings together leaders of Community Action Agencies and o
 ther grant-funded organizations across the country to navigate the legal a
 nd governance challenges they face as they deliver essential services in t
 heir communities. Learn from attorneys\, accountants\, network leaders\, a
 s well as your peers to increase your organizational capacity for effectiv
 eness and accountability. Walk away from this 2-day conference with essent
 ial skills and knowledge to apply to the important work you do each day. 
 \n\nConference dates - June 2-3\, 2026\nwith pre-conference tours on Monda
 y\, June 1.\n\nThese pre-conferences all you to get out and explore ground
 breaking programs in Phoenix providing 360-degree care for individuals exp
 eriencing homelessness and poverty\, and helping individuals move from cri
 sis to lasting stability. These 2 tours will take place from 1-4 PM the da
 y before the conference.\n\nJoin us in Phoenix\, Arizona\, for the 2026 CA
 PLAW National Training Conference from June 2-3\, now in a focused two-day
  format featuring over 30 sessions\, the same top-quality speakers\, and i
 nvaluable networking opportunities.\n\nWhat's New?\n•	Expanded pre-conferen
 ce tours on June 1\n•	Enhanced opportunities to network with peers and expe
 rts\n•	Easier travel planning and less time away from your community and yo
 ur work—without missing a beat of conference learning!\n\nCome ready for t
 wo days of connection\, learning\, and inspiration—then head home energize
 d and ready to put your new insights into action\n
X-WR-RELCALID:0be3f2c811eedcc82d993e5b18600669
X-WR-TIMEZONE:America/Denver
BEGIN:VTIMEZONE
TZID:America/Denver
BEGIN:STANDARD
TZNAME:MST
DTSTART:20251102T020000
TZOFFSETFROM:-0600
TZOFFSETTO:-0700
RDATE:20261101T020000
RDATE:20271107T020000
END:STANDARD
BEGIN:DAYLIGHT
TZNAME:MDT
DTSTART:20260308T020000
TZOFFSETFROM:-0700
TZOFFSETTO:-0600
RDATE:20270314T020000
END:DAYLIGHT
END:VTIMEZONE
BEGIN:VEVENT
UID:e9a93f63-3595-43fa-b8ca-accfd84d7d86
DTSTAMP:20260422T040452Z
DESCRIPTION:SAVE THE DATE for one of the best legal and guidance conference
  you will attend! Topics include Governance\, Human Resources\, Finance\, 
 Programming and other specialized topics.\n\nWHO SHOULD ATTEND? If you are
  a human services executive director\, senior staff\, on-the-ground leader
 s or board members this is for you! Anyone working with federal grants\, a
 ttorneys\, financial consultants and local\, state officials are also welc
 omed to attend. \n\nRegistration opens in February - Learn more here!\n\nT
 his conference brings together leaders of Community Action Agencies and ot
 her grant-funded organizations across the country to navigate the legal an
 d governance challenges they face as they deliver essential services in th
 eir communities. Learn from attorneys\, accountants\, network leaders\, as
  well as your peers to increase your organizational capacity for effective
 ness and accountability. Walk away from this 2-day conference with essenti
 al skills and knowledge to apply to the important work you do each day. \n
 \nConference dates - June 2-3\, 2026\nwith pre-conference tours on Monday\
 , June 1.\n\nThese pre-conferences all you to get out and explore groundbr
 eaking programs in Phoenix providing 360-degree care for individuals exper
 iencing homelessness and poverty\, and helping individuals move from crisi
 s to lasting stability. These 2 tours will take place from 1-4 PM the day 
 before the conference.\n\nJoin us in Phoenix\, Arizona\, for the 2026 CAPL
 AW National Training Conference from June 2-3\, now in a focused two-day f
 ormat featuring over 30 sessions\, the same top-quality speakers\, and inv
 aluable networking opportunities.\n\nWhat's New?\n•	Expanded pre-conference
  tours on June 1\n•	Enhanced opportunities to network with peers and expert
 s\n•	Easier travel planning and less time away from your community and your
  work—without missing a beat of conference learning!\n\nCome ready for two
  days of connection\, learning\, and inspiration—then head home energized 
 and ready to put your new insights into action\n
DTSTART;TZID=America/Denver:20260601T040000
DTEND;TZID=America/Denver:20260603T040001
LOCATION:Sheraton Phoenix Downtown\, North 3rd Street 340\, Phoenix\, AZ 85
 004 US
SUMMARY:CAPLAW - 2026 CAPLAW Conference
END:VEVENT
END:VCALENDAR
