BEGIN:VCALENDAR
VERSION:2.0
PRODID:-//caputah.org//NONSGML kigkonsult.se iCalcreator 2.30.10//
CALSCALE:GREGORIAN
METHOD:PUBLISH
UID:a1c98a1a-548a-4d7a-9729-ec85f2f646ea
X-WR-CALDESC:Join us for an informative webinar where we'll explore the cri
 tical aspects of creating an effective operating reserve policy tailored f
 or nonprofit organizations. Learn why building and managing reserves is cr
 ucial for financial health\, particularly in uncertain economic climates.
 \n\nKey Takeaways:\n\nRecognize the role of operating reserves in balancin
 g nonprofit sustainability with mission goals.\nDetermine appropriate rese
 rve levels using organizational benchmarks.\nExamine the influence of econ
 omic conditions and political factors on reserve policies.\nExamine the ne
 cessity of reserves for strategic growth and leadership transitions.\nDete
 rmine the effects of legal\, technological\, and membership changes on res
 erves.\nDevelop methods to diversify funding and strengthen financial stab
 ility.\n\nRecommended CPE: This roundtable is eligible for 1.2 CPE credits
  in Tax\nDelivery Method: Group Internet Based\nProgram Level: Overview - 
 Professionals at all organization levels\nPrerequisites: None\nAdvanced Pr
 eparation: None\n\n*Attendees must be registered individually and click on
  periodic participation markers throughout the webinar to receive CPE cred
 it.
X-WR-RELCALID:f7793747c9c9f13f19c4c86bfa7c0cb1
X-WR-TIMEZONE:America/Denver
BEGIN:VTIMEZONE
TZID:America/Denver
BEGIN:STANDARD
TZNAME:MST
DTSTART:20251102T020000
TZOFFSETFROM:-0600
TZOFFSETTO:-0700
RDATE:20261101T020000
RDATE:20271107T020000
END:STANDARD
BEGIN:DAYLIGHT
TZNAME:MDT
DTSTART:20260308T020000
TZOFFSETFROM:-0700
TZOFFSETTO:-0600
RDATE:20270314T020000
END:DAYLIGHT
END:VTIMEZONE
BEGIN:VEVENT
UID:363e213d-cb3d-4b16-bb6c-55529b238087
DTSTAMP:20260422T054923Z
DESCRIPTION:Join us for an informative webinar where we'll explore the crit
 ical aspects of creating an effective operating reserve policy tailored fo
 r nonprofit organizations. Learn why building and managing reserves is cru
 cial for financial health\, particularly in uncertain economic climates.\n
 \nKey Takeaways:\n\nRecognize the role of operating reserves in balancing 
 nonprofit sustainability with mission goals.\nDetermine appropriate reserv
 e levels using organizational benchmarks.\nExamine the influence of econom
 ic conditions and political factors on reserve policies.\nExamine the nece
 ssity of reserves for strategic growth and leadership transitions.\nDeterm
 ine the effects of legal\, technological\, and membership changes on reser
 ves.\nDevelop methods to diversify funding and strengthen financial stabil
 ity.\n\nRecommended CPE: This roundtable is eligible for 1.2 CPE credits i
 n Tax\nDelivery Method: Group Internet Based\nProgram Level: Overview - Pr
 ofessionals at all organization levels\nPrerequisites: None\nAdvanced Prep
 aration: None\n\n*Attendees must be registered individually and click on p
 eriodic participation markers throughout the webinar to receive CPE credit
 .
DTSTART;TZID=America/Denver:20260609T110000
DTEND;TZID=America/Denver:20260609T120000
LOCATION:https://event.on24.com/wcc/r/5188411/A148967EAFAC33CC832FB88C21754
 B79
SUMMARY:NCAP - Optimizing IRS Form 990 Amid Increased Scrutiny
END:VEVENT
END:VCALENDAR
