BEGIN:VCALENDAR
VERSION:2.0
PRODID:-//caputah.org//NONSGML kigkonsult.se iCalcreator 2.30.10//
CALSCALE:GREGORIAN
METHOD:PUBLISH
UID:a5cafb1a-04a0-4aa6-987b-bfe67d8696e2
X-WR-CALDESC:A strong partnership between a Community Action Agency’s Execu
 tive Director and Board Chair is essential to how an organization function
 s\, makes decisions\, and delivers results for people and communities.\n\n
 The Executive Director / Board Chair Symposium is designed for leadership 
 pairs to step out of day-to-day demands and focus on how they work togethe
 r. Over 1.5 days\, you will engage in shared learning\, planning\, and pee
 r exchange to strengthen alignment\, clarify roles\, and build a more effe
 ctive working relationship.
X-WR-RELCALID:07a3b2a0c519971539045357990857ca
X-WR-TIMEZONE:America/Denver
BEGIN:VTIMEZONE
TZID:America/Denver
BEGIN:STANDARD
TZNAME:MST
DTSTART:20251102T020000
TZOFFSETFROM:-0600
TZOFFSETTO:-0700
RDATE:20261101T020000
RDATE:20271107T020000
END:STANDARD
BEGIN:DAYLIGHT
TZNAME:MDT
DTSTART:20260308T020000
TZOFFSETFROM:-0700
TZOFFSETTO:-0600
RDATE:20270314T020000
END:DAYLIGHT
END:VTIMEZONE
BEGIN:VEVENT
UID:bcf32230-c7e2-462c-b319-c6413834844a
DTSTAMP:20260422T055517Z
DESCRIPTION:A strong partnership between a Community Action Agency’s Execut
 ive Director and Board Chair is essential to how an organization functions
 \, makes decisions\, and delivers results for people and communities.\n\nT
 he Executive Director / Board Chair Symposium is designed for leadership p
 airs to step out of day-to-day demands and focus on how they work together
 . Over 1.5 days\, you will engage in shared learning\, planning\, and peer
  exchange to strengthen alignment\, clarify roles\, and build a more effec
 tive working relationship.
DTSTART;TZID=America/Denver:20260625T040000
DTEND;TZID=America/Denver:20260626T040001
LOCATION:DoubleTree by Hilton Hotel Washington DC\, 300 Army Navy Drive\, A
 rlington\, VA 22202 US
SUMMARY:NCAP - 2026 Executive Director / Board Chair Symposium
END:VEVENT
END:VCALENDAR
