BEGIN:VCALENDAR
VERSION:2.0
PRODID:-//caputah.org//NONSGML kigkonsult.se iCalcreator 2.30.10//
CALSCALE:GREGORIAN
METHOD:PUBLISH
UID:50cf516b-e6ed-41d6-8278-dc55ea834df9
X-WR-CALDESC:Mark your calendars! The 2026 CAPND & Region 8 Conference will
  be held July 28–30\, 2026\, at the Holiday Inn in Fargo\, North Dakota.\n
 \nWe're excited to welcome Community Action colleagues from South Dakota\,
  Montana\, North Dakota\, Colorado\, Utah\, and Wyoming for another engagi
 ng and collaborative event.\n\nConference sessions will be shaped by the n
 eeds and interests of our network\, with topics reflecting the issues and 
 opportunities that matter most to Community Action professionals across Re
 gion 8. This will be a chance to connect\, learn\, and celebrate the incre
 dible work happening throughout our region!\n\nRegistration and additional
  conference details will be shared soon.\n\nThe sleeping room block is now
  set up and ready for reservations. Please note the cutoff date for reserv
 ations is June 27. \n\nWe can't wait to see everyone in Fargo next summer!
 \n
X-WR-RELCALID:78900d91d392ca16beb2ba91a2a35302
X-WR-TIMEZONE:America/Denver
BEGIN:VTIMEZONE
TZID:America/Denver
BEGIN:STANDARD
TZNAME:MST
DTSTART:20251102T020000
TZOFFSETFROM:-0600
TZOFFSETTO:-0700
RDATE:20261101T020000
RDATE:20271107T020000
END:STANDARD
BEGIN:DAYLIGHT
TZNAME:MDT
DTSTART:20260308T020000
TZOFFSETFROM:-0700
TZOFFSETTO:-0600
RDATE:20270314T020000
END:DAYLIGHT
END:VTIMEZONE
BEGIN:VEVENT
UID:e01d4d18-4bc4-4aac-baca-c475c6bd7ec1
DTSTAMP:20260422T073413Z
DESCRIPTION:Mark your calendars! The 2026 CAPND & Region 8 Conference will 
 be held July 28–30\, 2026\, at the Holiday Inn in Fargo\, North Dakota.\n
 \nWe're excited to welcome Community Action colleagues from South Dakota\,
  Montana\, North Dakota\, Colorado\, Utah\, and Wyoming for another engagi
 ng and collaborative event.\n\nConference sessions will be shaped by the n
 eeds and interests of our network\, with topics reflecting the issues and 
 opportunities that matter most to Community Action professionals across Re
 gion 8. This will be a chance to connect\, learn\, and celebrate the incre
 dible work happening throughout our region!\n\nRegistration and additional
  conference details will be shared soon.\n\nThe sleeping room block is now
  set up and ready for reservations. Please note the cutoff date for reserv
 ations is June 27. \n\nWe can't wait to see everyone in Fargo next summer!
 \n
DTSTART;TZID=America/Denver:20260728T040000
DTEND;TZID=America/Denver:20260730T040001
LOCATION:Holiday Inn Fargo by IHG\, 13th Avenue South 3803\, Fargo\, ND 581
 03 US
SUMMARY:Region 8 - 2026 Region 8 and North Dakota CSBG/Community Action Con
 ference
END:VEVENT
END:VCALENDAR
