BEGIN:VCALENDAR
VERSION:2.0
PRODID:-//caputah.org//NONSGML kigkonsult.se iCalcreator 2.30.10//
CALSCALE:GREGORIAN
METHOD:PUBLISH
UID:632d68a7-96fe-4fd2-9492-4efc2c9e5e1d
X-WR-CALDESC:Join us for our 2026 Annual Convention\, taking place Septembe
 r 2–4 in St. Louis\, Missouri!\n\nABOUT THE EVENT\n\nCommunity Action Agen
 cies (CAAs) and human services providers are on the front lines of strengt
 hening families and communities. They are trusted leaders — combining deep
  expertise\, lived experience\, and an unwavering commitment to expanding 
 opportunity.\n\nAt the National Community Action Partnership’s (NCAP) Annu
 al Convention\, these changemakers come together to exchange bold ideas\, 
 elevate innovative practices\, and stay ahead of evolving federal standard
 s. This is more than a convention— it’s a catalyst for action.\n\nAttendee
 s gain timely training\, practical tools\, and actionable insights designe
 d to increase efficiency and maximize impact. From advancing a whole-famil
 y approach to economic mobility to strategies that strengthen community pa
 rtnerships\, the convention serves as a dynamic learning hub where proven 
 solutions are shared and refined.\n\nBecause when families have the suppor
 t they need\, communities thrive.\n\nEveryone deserves the opportunity to 
 build stability\, pursue prosperity\, and create a brighter future. NCAP’s
  Annual Convention empowers CAAs and human services providers to drive eco
 nomic mobility\, expand pathways to the middle class\, and help hard-worki
 ng families move forward — together.\n\nRegistration coming soon!
X-WR-RELCALID:87af9bf118fb2b59be351a245ad57ee0
X-WR-TIMEZONE:America/Denver
BEGIN:VTIMEZONE
TZID:America/Denver
BEGIN:STANDARD
TZNAME:MST
DTSTART:20251102T020000
TZOFFSETFROM:-0600
TZOFFSETTO:-0700
RDATE:20261101T020000
RDATE:20271107T020000
END:STANDARD
BEGIN:DAYLIGHT
TZNAME:MDT
DTSTART:20260308T020000
TZOFFSETFROM:-0700
TZOFFSETTO:-0600
RDATE:20270314T020000
END:DAYLIGHT
END:VTIMEZONE
BEGIN:VEVENT
UID:0d21d9f0-3698-4fdb-a805-72deab8a3cd3
DTSTAMP:20260422T090703Z
DESCRIPTION:Join us for our 2026 Annual Convention\, taking place September
  2–4 in St. Louis\, Missouri!\n\nABOUT THE EVENT\n\nCommunity Action Agenc
 ies (CAAs) and human services providers are on the front lines of strength
 ening families and communities. They are trusted leaders — combining deep 
 expertise\, lived experience\, and an unwavering commitment to expanding o
 pportunity.\n\nAt the National Community Action Partnership’s (NCAP) Annua
 l Convention\, these changemakers come together to exchange bold ideas\, e
 levate innovative practices\, and stay ahead of evolving federal standards
 . This is more than a convention— it’s a catalyst for action.\n\nAttendees
  gain timely training\, practical tools\, and actionable insights designed
  to increase efficiency and maximize impact. From advancing a whole-family
  approach to economic mobility to strategies that strengthen community par
 tnerships\, the convention serves as a dynamic learning hub where proven s
 olutions are shared and refined.\n\nBecause when families have the support
  they need\, communities thrive.\n\nEveryone deserves the opportunity to b
 uild stability\, pursue prosperity\, and create a brighter future. NCAP’s 
 Annual Convention empowers CAAs and human services providers to drive econ
 omic mobility\, expand pathways to the middle class\, and help hard-workin
 g families move forward — together.\n\nRegistration coming soon!
DTSTART;TZID=America/Denver:20260902T040000
DTEND;TZID=America/Denver:20260904T040001
LOCATION:Hyatt Regency St. Louis at the Arch\, 315 Chestnut St\, St. Louis\
 , MO 63102 US
SUMMARY:NCAP - Save the Date for NCAP's 2026 Annual Convention!
END:VEVENT
END:VCALENDAR
